BEGIN:VCALENDAR
VERSION:2.0
PRODID:-//Silicon Valley DSA - ECPv6.15.20//NONSGML v1.0//EN
CALSCALE:GREGORIAN
METHOD:PUBLISH
X-ORIGINAL-URL:https://siliconvalleydsa.org
X-WR-CALDESC:Events for Silicon Valley DSA
REFRESH-INTERVAL;VALUE=DURATION:PT1H
X-Robots-Tag:noindex
X-PUBLISHED-TTL:PT1H
BEGIN:VTIMEZONE
TZID:America/Los_Angeles
BEGIN:DAYLIGHT
TZOFFSETFROM:-0800
TZOFFSETTO:-0700
TZNAME:PDT
DTSTART:20240310T100000
END:DAYLIGHT
BEGIN:STANDARD
TZOFFSETFROM:-0700
TZOFFSETTO:-0800
TZNAME:PST
DTSTART:20241103T090000
END:STANDARD
BEGIN:DAYLIGHT
TZOFFSETFROM:-0800
TZOFFSETTO:-0700
TZNAME:PDT
DTSTART:20250309T100000
END:DAYLIGHT
BEGIN:STANDARD
TZOFFSETFROM:-0700
TZOFFSETTO:-0800
TZNAME:PST
DTSTART:20251102T090000
END:STANDARD
BEGIN:DAYLIGHT
TZOFFSETFROM:-0800
TZOFFSETTO:-0700
TZNAME:PDT
DTSTART:20260308T100000
END:DAYLIGHT
BEGIN:STANDARD
TZOFFSETFROM:-0700
TZOFFSETTO:-0800
TZNAME:PST
DTSTART:20261101T090000
END:STANDARD
END:VTIMEZONE
BEGIN:VEVENT
DTSTART;TZID=America/Los_Angeles:20251015T173000
DTEND;TZID=America/Los_Angeles:20251015T200000
DTSTAMP:20260423T221120
CREATED:20251010T045908Z
LAST-MODIFIED:20251010T045908Z
UID:10002334-1760549400-1760558400@siliconvalleydsa.org
SUMMARY:Measure A & Prop 50 In-Person High-Turnout Phonebanking
DESCRIPTION:Join the Silicon Valley DSA and the South Bay Labor Council for in-person phonebanking to build the support we need to pass Measure A and Proposition 50! We’ll meet in person at SEIU Local 521 Union Hall. October 14th-16th are high-turnout/focus days for SV DSA. Bring a laptop if able and consider wearing red or DSA swag! We’ll get drinks at Jacks after\, if interested! \nRSVP here: https://actionnetwork.org/campaigns/sv-dsa-measure-a/
URL:https://siliconvalleydsa.org/event/measure-a-prop-50-in-person-high-turnout-phonebanking-3/
LOCATION:SEIU Local 521 Union Hall\, 2302 Zanker Rd\, San Jose\, CA\, 95131
CATEGORIES:External,SV DSA
ORGANIZER;CN="Silicon Valley DSA":MAILTO:info@siliconvalleydsa.org
END:VEVENT
BEGIN:VEVENT
DTSTART;TZID=America/Los_Angeles:20251014T173000
DTEND;TZID=America/Los_Angeles:20251014T200000
DTSTAMP:20260423T221120
CREATED:20251010T045904Z
LAST-MODIFIED:20251010T045904Z
UID:10002333-1760463000-1760472000@siliconvalleydsa.org
SUMMARY:Measure A & Prop 50 In-Person High-Turnout Phonebanking
DESCRIPTION:Join the Silicon Valley DSA and the South Bay Labor Council for in-person phonebanking to build the support we need to pass Measure A and Proposition 50! We’ll meet in person at SEIU Local 521 Union Hall. October 14th-16th are high-turnout/focus days for SV DSA. Bring a laptop if able and consider wearing red or DSA swag! We’ll get drinks at Jacks after\, if interested! \nRSVP here: https://actionnetwork.org/campaigns/sv-dsa-measure-a/
URL:https://siliconvalleydsa.org/event/measure-a-prop-50-in-person-high-turnout-phonebanking-2/
LOCATION:SEIU Local 521 Union Hall\, 2302 Zanker Rd\, San Jose\, CA\, 95131
CATEGORIES:External,SV DSA
ORGANIZER;CN="Silicon Valley DSA":MAILTO:info@siliconvalleydsa.org
END:VEVENT
BEGIN:VEVENT
DTSTART;TZID=America/Los_Angeles:20251011T090000
DTEND;TZID=America/Los_Angeles:20251011T130000
DTSTAMP:20260423T221120
CREATED:20250901T052509Z
LAST-MODIFIED:20251001T203335Z
UID:10001918-1760173200-1760187600@siliconvalleydsa.org
SUMMARY:Measure A & Prop 50 Canvassing
DESCRIPTION:Join the Silicon Valley DSA and the South Bay Labor Council for canvassing to build the support we need to pass Measure A and Proposition 50! We’ll depart from SEIU Local 521 Union Hall. \nRSVP here: https://actionnetwork.org/campaigns/sv-dsa-measure-a/
URL:https://siliconvalleydsa.org/event/measure-a-prop-50-canvassing/2025-10-11/
LOCATION:SEIU Local 521 Union Hall\, 2302 Zanker Rd\, San Jose\, CA\, 95131
CATEGORIES:External,SV DSA
ORGANIZER;CN="Silicon Valley DSA":MAILTO:info@siliconvalleydsa.org
END:VEVENT
BEGIN:VEVENT
DTSTART;TZID=America/Los_Angeles:20251009T173000
DTEND;TZID=America/Los_Angeles:20251009T200000
DTSTAMP:20260423T221120
CREATED:20250901T051742Z
LAST-MODIFIED:20251001T203458Z
UID:10001745-1760031000-1760040000@siliconvalleydsa.org
SUMMARY:Measure A & Prop 50 Phonebanking
DESCRIPTION:Join the Silicon Valley DSA and the South Bay Labor Council for in-person phonebanking to build the support we need to pass Measure A and Proposition 50! Bring a laptop if able and consider wearing red or DSA swag! \nRSVP here: https://actionnetwork.org/campaigns/sv-dsa-measure-a/
URL:https://siliconvalleydsa.org/event/measure-a-prop-50-phonebanking/2025-10-09/
LOCATION:SEIU Local 521 Union Hall\, 2302 Zanker Rd\, San Jose\, CA\, 95131
CATEGORIES:External,SV DSA
ORGANIZER;CN="Silicon Valley DSA":MAILTO:info@siliconvalleydsa.org
END:VEVENT
BEGIN:VEVENT
DTSTART;TZID=America/Los_Angeles:20251008T173000
DTEND;TZID=America/Los_Angeles:20251008T200000
DTSTAMP:20260423T221120
CREATED:20250901T051742Z
LAST-MODIFIED:20251001T203458Z
UID:10001744-1759944600-1759953600@siliconvalleydsa.org
SUMMARY:Measure A & Prop 50 Phonebanking
DESCRIPTION:Join the Silicon Valley DSA and the South Bay Labor Council for in-person phonebanking to build the support we need to pass Measure A and Proposition 50! Bring a laptop if able and consider wearing red or DSA swag! \nRSVP here: https://actionnetwork.org/campaigns/sv-dsa-measure-a/
URL:https://siliconvalleydsa.org/event/measure-a-prop-50-phonebanking/2025-10-08/
LOCATION:SEIU Local 521 Union Hall\, 2302 Zanker Rd\, San Jose\, CA\, 95131
CATEGORIES:External,SV DSA
ORGANIZER;CN="Silicon Valley DSA":MAILTO:info@siliconvalleydsa.org
END:VEVENT
BEGIN:VEVENT
DTSTART;TZID=America/Los_Angeles:20251007T173000
DTEND;TZID=America/Los_Angeles:20251007T200000
DTSTAMP:20260423T221120
CREATED:20250901T051742Z
LAST-MODIFIED:20251001T203458Z
UID:10001743-1759858200-1759867200@siliconvalleydsa.org
SUMMARY:Measure A & Prop 50 Phonebanking
DESCRIPTION:Join the Silicon Valley DSA and the South Bay Labor Council for in-person phonebanking to build the support we need to pass Measure A and Proposition 50! Bring a laptop if able and consider wearing red or DSA swag! \nRSVP here: https://actionnetwork.org/campaigns/sv-dsa-measure-a/
URL:https://siliconvalleydsa.org/event/measure-a-prop-50-phonebanking/2025-10-07/
LOCATION:SEIU Local 521 Union Hall\, 2302 Zanker Rd\, San Jose\, CA\, 95131
CATEGORIES:External,SV DSA
ORGANIZER;CN="Silicon Valley DSA":MAILTO:info@siliconvalleydsa.org
END:VEVENT
BEGIN:VEVENT
DTSTART;TZID=America/Los_Angeles:20251004T090000
DTEND;TZID=America/Los_Angeles:20251004T130000
DTSTAMP:20260423T221120
CREATED:20250901T052509Z
LAST-MODIFIED:20251001T203335Z
UID:10001917-1759568400-1759582800@siliconvalleydsa.org
SUMMARY:Measure A & Prop 50 Canvassing
DESCRIPTION:Join the Silicon Valley DSA and the South Bay Labor Council for canvassing to build the support we need to pass Measure A and Proposition 50! We’ll depart from SEIU Local 521 Union Hall. \nRSVP here: https://actionnetwork.org/campaigns/sv-dsa-measure-a/
URL:https://siliconvalleydsa.org/event/measure-a-prop-50-canvassing/2025-10-04/
LOCATION:SEIU Local 521 Union Hall\, 2302 Zanker Rd\, San Jose\, CA\, 95131
CATEGORIES:External,SV DSA
ORGANIZER;CN="Silicon Valley DSA":MAILTO:info@siliconvalleydsa.org
END:VEVENT
BEGIN:VEVENT
DTSTART;TZID=America/Los_Angeles:20251002T173000
DTEND;TZID=America/Los_Angeles:20251002T200000
DTSTAMP:20260423T221120
CREATED:20250901T051742Z
LAST-MODIFIED:20251001T203458Z
UID:10001742-1759426200-1759435200@siliconvalleydsa.org
SUMMARY:Measure A & Prop 50 Phonebanking
DESCRIPTION:Join the Silicon Valley DSA and the South Bay Labor Council for in-person phonebanking to build the support we need to pass Measure A and Proposition 50! Bring a laptop if able and consider wearing red or DSA swag! \nRSVP here: https://actionnetwork.org/campaigns/sv-dsa-measure-a/
URL:https://siliconvalleydsa.org/event/measure-a-prop-50-phonebanking/2025-10-02/
LOCATION:SEIU Local 521 Union Hall\, 2302 Zanker Rd\, San Jose\, CA\, 95131
CATEGORIES:External,SV DSA
ORGANIZER;CN="Silicon Valley DSA":MAILTO:info@siliconvalleydsa.org
END:VEVENT
BEGIN:VEVENT
DTSTART;TZID=America/Los_Angeles:20251001T190000
DTEND;TZID=America/Los_Angeles:20251001T203000
DTSTAMP:20260423T221120
CREATED:20250908T020313Z
LAST-MODIFIED:20250910T003849Z
UID:10000881-1759345200-1759350600@siliconvalleydsa.org
SUMMARY:Socialist Night School: Understanding Our Local Government (Political Education Event)
DESCRIPTION:Please join our public facing education event\, hosted by the Political Education working group\, which will be on understanding our local government. \nPlease note that these events are typically hosted on the 4th Wednesday of each month\, but will be one week later this time to account for the Measure A mobilization. Topics will be announced monthly and resources will be published online as well as through our newsletter. These meetings are a great way to learn the why behind the work we do. \nThis event will take place both: \n\nIn person at SEIU 521 (2302 Zanker Rd\, San Jose\, CA 95131)\nOn Zoom. Register for the Zoom at https://us02web.zoom.us/meeting/register/Z6s_K7jPQC62v1yrl4G7Gw#/registration
URL:https://siliconvalleydsa.org/event/political-education-working-group-educational-event-local-politics/
LOCATION:SEIU Local 521 Union Hall\, 2302 Zanker Rd\, San Jose\, CA\, 95131
ORGANIZER;CN="Silicon Valley DSA":MAILTO:info@siliconvalleydsa.org
END:VEVENT
BEGIN:VEVENT
DTSTART;TZID=America/Los_Angeles:20251001T173000
DTEND;TZID=America/Los_Angeles:20251001T200000
DTSTAMP:20260423T221120
CREATED:20250901T051742Z
LAST-MODIFIED:20251001T203458Z
UID:10001741-1759339800-1759348800@siliconvalleydsa.org
SUMMARY:Measure A & Prop 50 Phonebanking
DESCRIPTION:Join the Silicon Valley DSA and the South Bay Labor Council for in-person phonebanking to build the support we need to pass Measure A and Proposition 50! Bring a laptop if able and consider wearing red or DSA swag! \nRSVP here: https://actionnetwork.org/campaigns/sv-dsa-measure-a/
URL:https://siliconvalleydsa.org/event/measure-a-prop-50-phonebanking/2025-10-01/
LOCATION:SEIU Local 521 Union Hall\, 2302 Zanker Rd\, San Jose\, CA\, 95131
CATEGORIES:External,SV DSA
ORGANIZER;CN="Silicon Valley DSA":MAILTO:info@siliconvalleydsa.org
END:VEVENT
BEGIN:VEVENT
DTSTART;TZID=America/Los_Angeles:20250930T173000
DTEND;TZID=America/Los_Angeles:20250930T200000
DTSTAMP:20260423T221120
CREATED:20250901T051742Z
LAST-MODIFIED:20251001T203458Z
UID:10001740-1759253400-1759262400@siliconvalleydsa.org
SUMMARY:Measure A & Prop 50 Phonebanking
DESCRIPTION:Join the Silicon Valley DSA and the South Bay Labor Council for in-person phonebanking to build the support we need to pass Measure A and Proposition 50! Bring a laptop if able and consider wearing red or DSA swag! \nRSVP here: https://actionnetwork.org/campaigns/sv-dsa-measure-a/
URL:https://siliconvalleydsa.org/event/measure-a-prop-50-phonebanking/2025-09-30/
LOCATION:SEIU Local 521 Union Hall\, 2302 Zanker Rd\, San Jose\, CA\, 95131
CATEGORIES:External,SV DSA
ORGANIZER;CN="Silicon Valley DSA":MAILTO:info@siliconvalleydsa.org
END:VEVENT
BEGIN:VEVENT
DTSTART;TZID=America/Los_Angeles:20250927T150000
DTEND;TZID=America/Los_Angeles:20250927T153000
DTSTAMP:20260423T221120
CREATED:20250915T192624Z
LAST-MODIFIED:20250924T014258Z
UID:10002217-1758985200-1758987000@siliconvalleydsa.org
SUMMARY:Member Phonebanking for Measure A after September Chapter Meeting
DESCRIPTION:Silicon Valley has endorsed Measure A to help save county hospitals and combat the destruction wrought by Trump’s billionaire tax cut. That means we have to mobilize to speak to everyone we can reach in Santa Clara County. After our monthly September chapter meeting\, we will be phonebanking our membership to build support to save critical infrastructure as a first step in response to the robbery of public goods by our ruling class of oligarchs. We will begin the phonebank directly after the conclusion of our chapter meeting at SEIU 521 Union Hall or on Zoom. Bring a laptop of your own\, if able. Details for the meeting and Zoom are at the calendar page for that event here: https://siliconvalleydsa.org/event/september-chapter-meeting/
URL:https://siliconvalleydsa.org/event/member-phonebanking-for-measure-a-after-september-chapter-meeting/
LOCATION:SEIU Local 521 Union Hall\, 2302 Zanker Rd\, San Jose\, CA\, 95131
CATEGORIES:External,newbie-friendly,SV DSA,WG - Electoral
END:VEVENT
BEGIN:VEVENT
DTSTART;TZID=America/Los_Angeles:20250927T090000
DTEND;TZID=America/Los_Angeles:20250927T130000
DTSTAMP:20260423T221120
CREATED:20250901T052509Z
LAST-MODIFIED:20251001T203335Z
UID:10001916-1758963600-1758978000@siliconvalleydsa.org
SUMMARY:Measure A & Prop 50 Canvassing
DESCRIPTION:Join the Silicon Valley DSA and the South Bay Labor Council for canvassing to build the support we need to pass Measure A and Proposition 50! We’ll depart from SEIU Local 521 Union Hall. \nRSVP here: https://actionnetwork.org/campaigns/sv-dsa-measure-a/
URL:https://siliconvalleydsa.org/event/measure-a-prop-50-canvassing/2025-09-27/
LOCATION:SEIU Local 521 Union Hall\, 2302 Zanker Rd\, San Jose\, CA\, 95131
CATEGORIES:External,SV DSA
ORGANIZER;CN="Silicon Valley DSA":MAILTO:info@siliconvalleydsa.org
END:VEVENT
BEGIN:VEVENT
DTSTART;TZID=America/Los_Angeles:20250920T090000
DTEND;TZID=America/Los_Angeles:20250920T130000
DTSTAMP:20260423T221120
CREATED:20250901T052509Z
LAST-MODIFIED:20251001T203335Z
UID:10001915-1758358800-1758373200@siliconvalleydsa.org
SUMMARY:Measure A & Prop 50 Canvassing
DESCRIPTION:Join the Silicon Valley DSA and the South Bay Labor Council for canvassing to build the support we need to pass Measure A and Proposition 50! We’ll depart from SEIU Local 521 Union Hall. \nRSVP here: https://actionnetwork.org/campaigns/sv-dsa-measure-a/
URL:https://siliconvalleydsa.org/event/measure-a-prop-50-canvassing/2025-09-20/
LOCATION:SEIU Local 521 Union Hall\, 2302 Zanker Rd\, San Jose\, CA\, 95131
CATEGORIES:External,SV DSA
ORGANIZER;CN="Silicon Valley DSA":MAILTO:info@siliconvalleydsa.org
END:VEVENT
BEGIN:VEVENT
DTSTART;TZID=America/Los_Angeles:20250918T173000
DTEND;TZID=America/Los_Angeles:20250918T200000
DTSTAMP:20260423T221120
CREATED:20250901T051742Z
LAST-MODIFIED:20251001T203458Z
UID:10001736-1758216600-1758225600@siliconvalleydsa.org
SUMMARY:Measure A & Prop 50 Phonebanking
DESCRIPTION:Join the Silicon Valley DSA and the South Bay Labor Council for in-person phonebanking to build the support we need to pass Measure A and Proposition 50! Bring a laptop if able and consider wearing red or DSA swag! \nRSVP here: https://actionnetwork.org/campaigns/sv-dsa-measure-a/
URL:https://siliconvalleydsa.org/event/measure-a-prop-50-phonebanking/2025-09-18/
LOCATION:SEIU Local 521 Union Hall\, 2302 Zanker Rd\, San Jose\, CA\, 95131
CATEGORIES:External,SV DSA
ORGANIZER;CN="Silicon Valley DSA":MAILTO:info@siliconvalleydsa.org
END:VEVENT
BEGIN:VEVENT
DTSTART;TZID=America/Los_Angeles:20250917T173000
DTEND;TZID=America/Los_Angeles:20250917T200000
DTSTAMP:20260423T221120
CREATED:20250901T051742Z
LAST-MODIFIED:20251001T203458Z
UID:10001735-1758130200-1758139200@siliconvalleydsa.org
SUMMARY:Measure A & Prop 50 Phonebanking
DESCRIPTION:Join the Silicon Valley DSA and the South Bay Labor Council for in-person phonebanking to build the support we need to pass Measure A and Proposition 50! Bring a laptop if able and consider wearing red or DSA swag! \nRSVP here: https://actionnetwork.org/campaigns/sv-dsa-measure-a/
URL:https://siliconvalleydsa.org/event/measure-a-prop-50-phonebanking/2025-09-17/
LOCATION:SEIU Local 521 Union Hall\, 2302 Zanker Rd\, San Jose\, CA\, 95131
CATEGORIES:External,SV DSA
ORGANIZER;CN="Silicon Valley DSA":MAILTO:info@siliconvalleydsa.org
END:VEVENT
BEGIN:VEVENT
DTSTART;TZID=America/Los_Angeles:20250916T173000
DTEND;TZID=America/Los_Angeles:20250916T200000
DTSTAMP:20260423T221120
CREATED:20250901T051742Z
LAST-MODIFIED:20251001T203458Z
UID:10001734-1758043800-1758052800@siliconvalleydsa.org
SUMMARY:Measure A & Prop 50 Phonebanking
DESCRIPTION:Join the Silicon Valley DSA and the South Bay Labor Council for in-person phonebanking to build the support we need to pass Measure A and Proposition 50! Bring a laptop if able and consider wearing red or DSA swag! \nRSVP here: https://actionnetwork.org/campaigns/sv-dsa-measure-a/
URL:https://siliconvalleydsa.org/event/measure-a-prop-50-phonebanking/2025-09-16/
LOCATION:SEIU Local 521 Union Hall\, 2302 Zanker Rd\, San Jose\, CA\, 95131
CATEGORIES:External,SV DSA
ORGANIZER;CN="Silicon Valley DSA":MAILTO:info@siliconvalleydsa.org
END:VEVENT
BEGIN:VEVENT
DTSTART;TZID=America/Los_Angeles:20250913T090000
DTEND;TZID=America/Los_Angeles:20250913T130000
DTSTAMP:20260423T221120
CREATED:20250901T052509Z
LAST-MODIFIED:20251001T203335Z
UID:10002199-1757754000-1757768400@siliconvalleydsa.org
SUMMARY:Measure A & Prop 50 Canvassing
DESCRIPTION:Join the Silicon Valley DSA and the South Bay Labor Council for canvassing to build the support we need to pass Measure A and Proposition 50! We’ll depart from SEIU Local 521 Union Hall. \nRSVP here: https://actionnetwork.org/campaigns/sv-dsa-measure-a/
URL:https://siliconvalleydsa.org/event/measure-a-prop-50-canvassing/2025-09-13/
LOCATION:SEIU Local 521 Union Hall\, 2302 Zanker Rd\, San Jose\, CA\, 95131
CATEGORIES:External,SV DSA
ORGANIZER;CN="Silicon Valley DSA":MAILTO:info@siliconvalleydsa.org
END:VEVENT
BEGIN:VEVENT
DTSTART;TZID=America/Los_Angeles:20250911T173000
DTEND;TZID=America/Los_Angeles:20250911T200000
DTSTAMP:20260423T221120
CREATED:20250901T051742Z
LAST-MODIFIED:20251001T203458Z
UID:10001733-1757611800-1757620800@siliconvalleydsa.org
SUMMARY:Measure A & Prop 50 Phonebanking
DESCRIPTION:Join the Silicon Valley DSA and the South Bay Labor Council for in-person phonebanking to build the support we need to pass Measure A and Proposition 50! Bring a laptop if able and consider wearing red or DSA swag! \nRSVP here: https://actionnetwork.org/campaigns/sv-dsa-measure-a/
URL:https://siliconvalleydsa.org/event/measure-a-prop-50-phonebanking/2025-09-11/
LOCATION:SEIU Local 521 Union Hall\, 2302 Zanker Rd\, San Jose\, CA\, 95131
CATEGORIES:External,SV DSA
ORGANIZER;CN="Silicon Valley DSA":MAILTO:info@siliconvalleydsa.org
END:VEVENT
BEGIN:VEVENT
DTSTART;TZID=America/Los_Angeles:20250910T173000
DTEND;TZID=America/Los_Angeles:20250910T200000
DTSTAMP:20260423T221120
CREATED:20250901T051742Z
LAST-MODIFIED:20251001T203458Z
UID:10001732-1757525400-1757534400@siliconvalleydsa.org
SUMMARY:Measure A & Prop 50 Phonebanking
DESCRIPTION:Join the Silicon Valley DSA and the South Bay Labor Council for in-person phonebanking to build the support we need to pass Measure A and Proposition 50! Bring a laptop if able and consider wearing red or DSA swag! \nRSVP here: https://actionnetwork.org/campaigns/sv-dsa-measure-a/
URL:https://siliconvalleydsa.org/event/measure-a-prop-50-phonebanking/2025-09-10/
LOCATION:SEIU Local 521 Union Hall\, 2302 Zanker Rd\, San Jose\, CA\, 95131
CATEGORIES:External,SV DSA
ORGANIZER;CN="Silicon Valley DSA":MAILTO:info@siliconvalleydsa.org
END:VEVENT
BEGIN:VEVENT
DTSTART;TZID=America/Los_Angeles:20250909T173000
DTEND;TZID=America/Los_Angeles:20250909T200000
DTSTAMP:20260423T221120
CREATED:20250901T051742Z
LAST-MODIFIED:20251001T203458Z
UID:10001731-1757439000-1757448000@siliconvalleydsa.org
SUMMARY:Measure A & Prop 50 Phonebanking
DESCRIPTION:Join the Silicon Valley DSA and the South Bay Labor Council for in-person phonebanking to build the support we need to pass Measure A and Proposition 50! Bring a laptop if able and consider wearing red or DSA swag! \nRSVP here: https://actionnetwork.org/campaigns/sv-dsa-measure-a/
URL:https://siliconvalleydsa.org/event/measure-a-prop-50-phonebanking/2025-09-09/
LOCATION:SEIU Local 521 Union Hall\, 2302 Zanker Rd\, San Jose\, CA\, 95131
CATEGORIES:External,SV DSA
ORGANIZER;CN="Silicon Valley DSA":MAILTO:info@siliconvalleydsa.org
END:VEVENT
BEGIN:VEVENT
DTSTART;TZID=America/Los_Angeles:20250906T090000
DTEND;TZID=America/Los_Angeles:20250906T130000
DTSTAMP:20260423T221120
CREATED:20250901T052509Z
LAST-MODIFIED:20251001T203335Z
UID:10002200-1757149200-1757163600@siliconvalleydsa.org
SUMMARY:Measure A & Prop 50 Canvassing
DESCRIPTION:Join the Silicon Valley DSA and the South Bay Labor Council for canvassing to build the support we need to pass Measure A and Proposition 50! We’ll depart from SEIU Local 521 Union Hall. \nRSVP here: https://actionnetwork.org/campaigns/sv-dsa-measure-a/
URL:https://siliconvalleydsa.org/event/measure-a-prop-50-canvassing/2025-09-06/
LOCATION:SEIU Local 521 Union Hall\, 2302 Zanker Rd\, San Jose\, CA\, 95131
CATEGORIES:External,SV DSA
ORGANIZER;CN="Silicon Valley DSA":MAILTO:info@siliconvalleydsa.org
END:VEVENT
BEGIN:VEVENT
DTSTART;TZID=America/Los_Angeles:20250904T173000
DTEND;TZID=America/Los_Angeles:20250904T200000
DTSTAMP:20260423T221120
CREATED:20250901T051742Z
LAST-MODIFIED:20251001T203458Z
UID:10001730-1757007000-1757016000@siliconvalleydsa.org
SUMMARY:Measure A & Prop 50 Phonebanking
DESCRIPTION:Join the Silicon Valley DSA and the South Bay Labor Council for in-person phonebanking to build the support we need to pass Measure A and Proposition 50! Bring a laptop if able and consider wearing red or DSA swag! \nRSVP here: https://actionnetwork.org/campaigns/sv-dsa-measure-a/
URL:https://siliconvalleydsa.org/event/measure-a-prop-50-phonebanking/2025-09-04/
LOCATION:SEIU Local 521 Union Hall\, 2302 Zanker Rd\, San Jose\, CA\, 95131
CATEGORIES:External,SV DSA
ORGANIZER;CN="Silicon Valley DSA":MAILTO:info@siliconvalleydsa.org
END:VEVENT
BEGIN:VEVENT
DTSTART;TZID=America/Los_Angeles:20250827T190000
DTEND;TZID=America/Los_Angeles:20250827T203000
DTSTAMP:20260423T221120
CREATED:20250624T160725Z
LAST-MODIFIED:20250720T235011Z
UID:10000880-1756321200-1756326600@siliconvalleydsa.org
SUMMARY:Political Education Working Group Educational Event
DESCRIPTION:This is the public facing education event hosted on the 4th Wednesday of each month by the political education working group. Topics will be announced monthly and resources will be published online as well as through our newsletter. These meetings are a great way to learn the why behind the work we do. \nThis event will take place both: \n\nIn person at SEIU 521 (2302 Zanker Rd\, San Jose\, CA 95131)\nOn Zoom. Register for the Zoom at https://us02web.zoom.us/meeting/register/Z6s_K7jPQC62v1yrl4G7Gw#/registration
URL:https://siliconvalleydsa.org/event/political-education-working-group-educational-event/
LOCATION:SEIU Local 521 Union Hall\, 2302 Zanker Rd\, San Jose\, CA\, 95131
ORGANIZER;CN="Silicon Valley DSA":MAILTO:info@siliconvalleydsa.org
END:VEVENT
BEGIN:VEVENT
DTSTART;TZID=America/Los_Angeles:20250816T090000
DTEND;TZID=America/Los_Angeles:20250816T130000
DTSTAMP:20260423T221120
CREATED:20250510T234213Z
LAST-MODIFIED:20250510T234213Z
UID:10000685-1755334800-1755349200@siliconvalleydsa.org
SUMMARY:Chapter Leadership Retreat 08.16.2025
DESCRIPTION:At our April Chapter Convention\, we passed a resolution to hold chapter leadership retreats quarterly. These are events where we strategize about long-term plans\, set mile markers\, and generally do the work that keeps the chapter running strongly. We will be meeting on Saturday\, August 16 at SEIU 521 Union Hall from 9-1 for a retreat. All members of chapter leadership are invited – steering committee\, working group co-chairs\, and active members looking to get more deeply involved in the nuts-and-bolts of running the chapter. This will be an in-person event with no Zoom option.
URL:https://siliconvalleydsa.org/event/chapter-leadership-retreat-08-16-2025/
LOCATION:SEIU Local 521 Union Hall\, 2302 Zanker Rd\, San Jose\, CA\, 95131
CATEGORIES:Steering Committee,SV DSA
END:VEVENT
BEGIN:VEVENT
DTSTART;TZID=America/Los_Angeles:20250726T130000
DTEND;TZID=America/Los_Angeles:20250726T150000
DTSTAMP:20260423T221120
CREATED:20250709T051847Z
LAST-MODIFIED:20250723T052058Z
UID:10001288-1753534800-1753542000@siliconvalleydsa.org
SUMMARY:July Chapter Meeting
DESCRIPTION:Join Silicon Valley DSA for our July General Meeting! This meeting will feature a lively discussion on DSA’s National Convention resolutions\, updates from our working groups and ongoing projects\, as well as a space to connect with comrades and discuss our current and future work as a Chapter. \nWe welcome everyone to our meetings\, whether you’ve been involved for a long time or are curious to learn more. To take part in Chapter decisions as a voting member\, please sign up with National DSA at https://dsausa.org/join. \nThis meeting will be held in person\, with the option to participate virtually via Zoom. \nRegister for the Zoom at https://us02web.zoom.us/meeting/register/t9AcC_a4SaiP0aYRccxSDA#/registration \nRSVP HERE: https://actionnetwork.org/events/2025-07-26-chapter-meeting/
URL:https://siliconvalleydsa.org/event/2025-07-26-cm/
LOCATION:SEIU Local 521 Union Hall\, 2302 Zanker Rd\, San Jose\, CA\, 95131
CATEGORIES:General Meeting,SV DSA
ORGANIZER;CN="Silicon Valley DSA":MAILTO:info@siliconvalleydsa.org
END:VEVENT
BEGIN:VEVENT
DTSTART;TZID=America/Los_Angeles:20250723T190000
DTEND;TZID=America/Los_Angeles:20250723T203000
DTSTAMP:20260423T221120
CREATED:20250720T234926Z
LAST-MODIFIED:20250720T234926Z
UID:10000879-1753297200-1753302600@siliconvalleydsa.org
SUMMARY:Political Education Working Group Educational Event
DESCRIPTION:This is the public facing education event hosted on the 4th Wednesday of each month by the political education working group. Topics will be announced monthly and resources will be published online as well as through our newsletter. These meetings are a great way to learn the why behind the work we do. \nThis event will take place both: \n\nIn person at SEIU 521 (2302 Zanker Rd\, San Jose\, CA 95131)\nOn Zoom. Register for the Zoom at https://us02web.zoom.us/meeting/register/Z6s_K7jPQC62v1yrl4G7Gw#/registration\nRSVP Here as well: https://actionnetwork.org/events/political-education-working-group-educational-event
URL:https://siliconvalleydsa.org/event/political-education-working-group-educational-event-2/
LOCATION:SEIU Local 521 Union Hall\, 2302 Zanker Rd\, San Jose\, CA\, 95131
ORGANIZER;CN="Silicon Valley DSA":MAILTO:info@siliconvalleydsa.org
END:VEVENT
BEGIN:VEVENT
DTSTART;TZID=America/Los_Angeles:20250524T130000
DTEND;TZID=America/Los_Angeles:20250524T150000
DTSTAMP:20260423T221120
CREATED:20250208T204045Z
LAST-MODIFIED:20250521T210148Z
UID:10000647-1748091600-1748098800@siliconvalleydsa.org
SUMMARY:May Chapter Meeting
DESCRIPTION:Join Silicon Valley DSA for our May General Meeting featuring updates from our working groups and ongoing projects\, as well as a space to connect with comrades and discuss our current and future work as a chapter. \nWe welcome everyone to our meetings\, whether you have been involved for a long time or are just curious to learn more. To take part in chapter decisions as a voting member of the chapter\, please sign up with National DSA at https://dsausa.org/join. \nThis meeting will be held in person\, with the option to participate virtually via Zoom. Register via Zoom here.
URL:https://siliconvalleydsa.org/event/may-chapter-meeting/
LOCATION:SEIU Local 521 Union Hall\, 2302 Zanker Rd\, San Jose\, CA\, 95131
CATEGORIES:General Meeting,newbie-friendly,SV DSA
ORGANIZER;CN="Silicon Valley DSA":MAILTO:info@siliconvalleydsa.org
END:VEVENT
BEGIN:VEVENT
DTSTART;TZID=America/Los_Angeles:20250510T130000
DTEND;TZID=America/Los_Angeles:20250510T170000
DTSTAMP:20260423T221120
CREATED:20250330T193820Z
LAST-MODIFIED:20250423T024659Z
UID:10000676-1746882000-1746896400@siliconvalleydsa.org
SUMMARY:May Leadership Planning Retreat 2025.05.10
DESCRIPTION:Our newly elected corps of officers will have a leadership retreat on Saturday May 10 from 1-5 at SEIU 521 Union Hall. This will be an opportunity for new officers to get trained on chapter infrastructure\, including getting access to our tech tools and best practices for supporting chapter organizing. This is also open to Working group co-chairs or rank-and-file members who would like to get more involved in the nuts-and-bolts mechanics of helping run the chapter. Details for the May chapter meeting will also be finalized at this time.
URL:https://siliconvalleydsa.org/event/may-leadership-planning-retreat-2025-05-10/
LOCATION:SEIU Local 521 Union Hall\, 2302 Zanker Rd\, San Jose\, CA\, 95131
CATEGORIES:Committee - Agendas and Meeting Planning,Steering Committee,SV DSA
END:VEVENT
END:VCALENDAR