BEGIN:VCALENDAR
VERSION:2.0
PRODID:-//Silicon Valley DSA - ECPv6.15.20//NONSGML v1.0//EN
CALSCALE:GREGORIAN
METHOD:PUBLISH
X-ORIGINAL-URL:https://siliconvalleydsa.org
X-WR-CALDESC:Events for Silicon Valley DSA
REFRESH-INTERVAL;VALUE=DURATION:PT1H
X-Robots-Tag:noindex
X-PUBLISHED-TTL:PT1H
BEGIN:VTIMEZONE
TZID:America/Los_Angeles
BEGIN:DAYLIGHT
TZOFFSETFROM:-0800
TZOFFSETTO:-0700
TZNAME:PDT
DTSTART:20290311T100000
END:DAYLIGHT
BEGIN:STANDARD
TZOFFSETFROM:-0700
TZOFFSETTO:-0800
TZNAME:PST
DTSTART:20291104T090000
END:STANDARD
BEGIN:DAYLIGHT
TZOFFSETFROM:-0800
TZOFFSETTO:-0700
TZNAME:PDT
DTSTART:20300310T100000
END:DAYLIGHT
BEGIN:STANDARD
TZOFFSETFROM:-0700
TZOFFSETTO:-0800
TZNAME:PST
DTSTART:20301103T090000
END:STANDARD
BEGIN:DAYLIGHT
TZOFFSETFROM:-0800
TZOFFSETTO:-0700
TZNAME:PDT
DTSTART:20310309T100000
END:DAYLIGHT
BEGIN:STANDARD
TZOFFSETFROM:-0700
TZOFFSETTO:-0800
TZNAME:PST
DTSTART:20311102T090000
END:STANDARD
BEGIN:DAYLIGHT
TZOFFSETFROM:-0800
TZOFFSETTO:-0700
TZNAME:PDT
DTSTART:20320314T100000
END:DAYLIGHT
BEGIN:STANDARD
TZOFFSETFROM:-0700
TZOFFSETTO:-0800
TZNAME:PST
DTSTART:20321107T090000
END:STANDARD
END:VTIMEZONE
BEGIN:VEVENT
DTSTART;TZID=America/Los_Angeles:20301128T080000
DTEND;TZID=America/Los_Angeles:20301128T140000
DTSTAMP:20260421T155344
CREATED:20260225T052241Z
LAST-MODIFIED:20260225T052628Z
UID:10003989-1922083200-1922104800@siliconvalleydsa.org
SUMMARY:ICE Watch
DESCRIPTION:Please join us every Thursday at the ISAP office on Blossom Hill Rd at any time between 8am-2pm to help protect your neighbors from ICE kidnappings\, and get connected with more local organizing opportunities! We are especially in need of multilingual folks – Spanish\, Hindi\, Arabic\, and Mandarin speakers especially! \nLocation Details\nISAP Office\n393 Blossom Hill\nSan Jose CA 95123 \nParking \nThere is street parking nearby \nPublic Transportation \nBus: Blossom Hill & Judith (27)\,
URL:https://siliconvalleydsa.org/event/ice-watch/2030-11-28/
LOCATION:ISAP Office\, 393 Blossom Hill\, San Jose\, CA\, 95123\, United States
CATEGORIES:External,SV DSA,WG - International Solidarity,WG - Mutual Aid
END:VEVENT
BEGIN:VEVENT
DTSTART;TZID=America/Los_Angeles:20301205T080000
DTEND;TZID=America/Los_Angeles:20301205T140000
DTSTAMP:20260421T155344
CREATED:20260225T052241Z
LAST-MODIFIED:20260225T052628Z
UID:10003991-1922688000-1922709600@siliconvalleydsa.org
SUMMARY:ICE Watch
DESCRIPTION:Please join us every Thursday at the ISAP office on Blossom Hill Rd at any time between 8am-2pm to help protect your neighbors from ICE kidnappings\, and get connected with more local organizing opportunities! We are especially in need of multilingual folks – Spanish\, Hindi\, Arabic\, and Mandarin speakers especially! \nLocation Details\nISAP Office\n393 Blossom Hill\nSan Jose CA 95123 \nParking \nThere is street parking nearby \nPublic Transportation \nBus: Blossom Hill & Judith (27)\,
URL:https://siliconvalleydsa.org/event/ice-watch/2030-12-05/
LOCATION:ISAP Office\, 393 Blossom Hill\, San Jose\, CA\, 95123\, United States
CATEGORIES:External,SV DSA,WG - International Solidarity,WG - Mutual Aid
END:VEVENT
BEGIN:VEVENT
DTSTART;TZID=America/Los_Angeles:20301212T080000
DTEND;TZID=America/Los_Angeles:20301212T140000
DTSTAMP:20260421T155344
CREATED:20260225T052241Z
LAST-MODIFIED:20260225T052628Z
UID:10003993-1923292800-1923314400@siliconvalleydsa.org
SUMMARY:ICE Watch
DESCRIPTION:Please join us every Thursday at the ISAP office on Blossom Hill Rd at any time between 8am-2pm to help protect your neighbors from ICE kidnappings\, and get connected with more local organizing opportunities! We are especially in need of multilingual folks – Spanish\, Hindi\, Arabic\, and Mandarin speakers especially! \nLocation Details\nISAP Office\n393 Blossom Hill\nSan Jose CA 95123 \nParking \nThere is street parking nearby \nPublic Transportation \nBus: Blossom Hill & Judith (27)\,
URL:https://siliconvalleydsa.org/event/ice-watch/2030-12-12/
LOCATION:ISAP Office\, 393 Blossom Hill\, San Jose\, CA\, 95123\, United States
CATEGORIES:External,SV DSA,WG - International Solidarity,WG - Mutual Aid
END:VEVENT
BEGIN:VEVENT
DTSTART;TZID=America/Los_Angeles:20301219T080000
DTEND;TZID=America/Los_Angeles:20301219T140000
DTSTAMP:20260421T155344
CREATED:20260225T052241Z
LAST-MODIFIED:20260225T052628Z
UID:10003995-1923897600-1923919200@siliconvalleydsa.org
SUMMARY:ICE Watch
DESCRIPTION:Please join us every Thursday at the ISAP office on Blossom Hill Rd at any time between 8am-2pm to help protect your neighbors from ICE kidnappings\, and get connected with more local organizing opportunities! We are especially in need of multilingual folks – Spanish\, Hindi\, Arabic\, and Mandarin speakers especially! \nLocation Details\nISAP Office\n393 Blossom Hill\nSan Jose CA 95123 \nParking \nThere is street parking nearby \nPublic Transportation \nBus: Blossom Hill & Judith (27)\,
URL:https://siliconvalleydsa.org/event/ice-watch/2030-12-19/
LOCATION:ISAP Office\, 393 Blossom Hill\, San Jose\, CA\, 95123\, United States
CATEGORIES:External,SV DSA,WG - International Solidarity,WG - Mutual Aid
END:VEVENT
BEGIN:VEVENT
DTSTART;TZID=America/Los_Angeles:20301226T080000
DTEND;TZID=America/Los_Angeles:20301226T140000
DTSTAMP:20260421T155344
CREATED:20260225T052241Z
LAST-MODIFIED:20260225T052628Z
UID:10003997-1924502400-1924524000@siliconvalleydsa.org
SUMMARY:ICE Watch
DESCRIPTION:Please join us every Thursday at the ISAP office on Blossom Hill Rd at any time between 8am-2pm to help protect your neighbors from ICE kidnappings\, and get connected with more local organizing opportunities! We are especially in need of multilingual folks – Spanish\, Hindi\, Arabic\, and Mandarin speakers especially! \nLocation Details\nISAP Office\n393 Blossom Hill\nSan Jose CA 95123 \nParking \nThere is street parking nearby \nPublic Transportation \nBus: Blossom Hill & Judith (27)\,
URL:https://siliconvalleydsa.org/event/ice-watch/2030-12-26/
LOCATION:ISAP Office\, 393 Blossom Hill\, San Jose\, CA\, 95123\, United States
CATEGORIES:External,SV DSA,WG - International Solidarity,WG - Mutual Aid
END:VEVENT
BEGIN:VEVENT
DTSTART;TZID=America/Los_Angeles:20310102T080000
DTEND;TZID=America/Los_Angeles:20310102T140000
DTSTAMP:20260421T155344
CREATED:20260225T052241Z
LAST-MODIFIED:20260225T052628Z
UID:10003999-1925107200-1925128800@siliconvalleydsa.org
SUMMARY:ICE Watch
DESCRIPTION:Please join us every Thursday at the ISAP office on Blossom Hill Rd at any time between 8am-2pm to help protect your neighbors from ICE kidnappings\, and get connected with more local organizing opportunities! We are especially in need of multilingual folks – Spanish\, Hindi\, Arabic\, and Mandarin speakers especially! \nLocation Details\nISAP Office\n393 Blossom Hill\nSan Jose CA 95123 \nParking \nThere is street parking nearby \nPublic Transportation \nBus: Blossom Hill & Judith (27)\,
URL:https://siliconvalleydsa.org/event/ice-watch/2031-01-02/
LOCATION:ISAP Office\, 393 Blossom Hill\, San Jose\, CA\, 95123\, United States
CATEGORIES:External,SV DSA,WG - International Solidarity,WG - Mutual Aid
END:VEVENT
BEGIN:VEVENT
DTSTART;TZID=America/Los_Angeles:20310109T080000
DTEND;TZID=America/Los_Angeles:20310109T140000
DTSTAMP:20260421T155344
CREATED:20260225T052241Z
LAST-MODIFIED:20260225T052628Z
UID:10004001-1925712000-1925733600@siliconvalleydsa.org
SUMMARY:ICE Watch
DESCRIPTION:Please join us every Thursday at the ISAP office on Blossom Hill Rd at any time between 8am-2pm to help protect your neighbors from ICE kidnappings\, and get connected with more local organizing opportunities! We are especially in need of multilingual folks – Spanish\, Hindi\, Arabic\, and Mandarin speakers especially! \nLocation Details\nISAP Office\n393 Blossom Hill\nSan Jose CA 95123 \nParking \nThere is street parking nearby \nPublic Transportation \nBus: Blossom Hill & Judith (27)\,
URL:https://siliconvalleydsa.org/event/ice-watch/2031-01-09/
LOCATION:ISAP Office\, 393 Blossom Hill\, San Jose\, CA\, 95123\, United States
CATEGORIES:External,SV DSA,WG - International Solidarity,WG - Mutual Aid
END:VEVENT
BEGIN:VEVENT
DTSTART;TZID=America/Los_Angeles:20310116T080000
DTEND;TZID=America/Los_Angeles:20310116T140000
DTSTAMP:20260421T155344
CREATED:20260225T052241Z
LAST-MODIFIED:20260225T052628Z
UID:10004003-1926316800-1926338400@siliconvalleydsa.org
SUMMARY:ICE Watch
DESCRIPTION:Please join us every Thursday at the ISAP office on Blossom Hill Rd at any time between 8am-2pm to help protect your neighbors from ICE kidnappings\, and get connected with more local organizing opportunities! We are especially in need of multilingual folks – Spanish\, Hindi\, Arabic\, and Mandarin speakers especially! \nLocation Details\nISAP Office\n393 Blossom Hill\nSan Jose CA 95123 \nParking \nThere is street parking nearby \nPublic Transportation \nBus: Blossom Hill & Judith (27)\,
URL:https://siliconvalleydsa.org/event/ice-watch/2031-01-16/
LOCATION:ISAP Office\, 393 Blossom Hill\, San Jose\, CA\, 95123\, United States
CATEGORIES:External,SV DSA,WG - International Solidarity,WG - Mutual Aid
END:VEVENT
BEGIN:VEVENT
DTSTART;TZID=America/Los_Angeles:20310123T080000
DTEND;TZID=America/Los_Angeles:20310123T140000
DTSTAMP:20260421T155344
CREATED:20260225T052241Z
LAST-MODIFIED:20260225T052628Z
UID:10004005-1926921600-1926943200@siliconvalleydsa.org
SUMMARY:ICE Watch
DESCRIPTION:Please join us every Thursday at the ISAP office on Blossom Hill Rd at any time between 8am-2pm to help protect your neighbors from ICE kidnappings\, and get connected with more local organizing opportunities! We are especially in need of multilingual folks – Spanish\, Hindi\, Arabic\, and Mandarin speakers especially! \nLocation Details\nISAP Office\n393 Blossom Hill\nSan Jose CA 95123 \nParking \nThere is street parking nearby \nPublic Transportation \nBus: Blossom Hill & Judith (27)\,
URL:https://siliconvalleydsa.org/event/ice-watch/2031-01-23/
LOCATION:ISAP Office\, 393 Blossom Hill\, San Jose\, CA\, 95123\, United States
CATEGORIES:External,SV DSA,WG - International Solidarity,WG - Mutual Aid
END:VEVENT
BEGIN:VEVENT
DTSTART;TZID=America/Los_Angeles:20310130T080000
DTEND;TZID=America/Los_Angeles:20310130T140000
DTSTAMP:20260421T155344
CREATED:20260225T052241Z
LAST-MODIFIED:20260225T052628Z
UID:10004007-1927526400-1927548000@siliconvalleydsa.org
SUMMARY:ICE Watch
DESCRIPTION:Please join us every Thursday at the ISAP office on Blossom Hill Rd at any time between 8am-2pm to help protect your neighbors from ICE kidnappings\, and get connected with more local organizing opportunities! We are especially in need of multilingual folks – Spanish\, Hindi\, Arabic\, and Mandarin speakers especially! \nLocation Details\nISAP Office\n393 Blossom Hill\nSan Jose CA 95123 \nParking \nThere is street parking nearby \nPublic Transportation \nBus: Blossom Hill & Judith (27)\,
URL:https://siliconvalleydsa.org/event/ice-watch/2031-01-30/
LOCATION:ISAP Office\, 393 Blossom Hill\, San Jose\, CA\, 95123\, United States
CATEGORIES:External,SV DSA,WG - International Solidarity,WG - Mutual Aid
END:VEVENT
BEGIN:VEVENT
DTSTART;TZID=America/Los_Angeles:20310206T080000
DTEND;TZID=America/Los_Angeles:20310206T140000
DTSTAMP:20260421T155344
CREATED:20260225T052241Z
LAST-MODIFIED:20260225T052628Z
UID:10004009-1928131200-1928152800@siliconvalleydsa.org
SUMMARY:ICE Watch
DESCRIPTION:Please join us every Thursday at the ISAP office on Blossom Hill Rd at any time between 8am-2pm to help protect your neighbors from ICE kidnappings\, and get connected with more local organizing opportunities! We are especially in need of multilingual folks – Spanish\, Hindi\, Arabic\, and Mandarin speakers especially! \nLocation Details\nISAP Office\n393 Blossom Hill\nSan Jose CA 95123 \nParking \nThere is street parking nearby \nPublic Transportation \nBus: Blossom Hill & Judith (27)\,
URL:https://siliconvalleydsa.org/event/ice-watch/2031-02-06/
LOCATION:ISAP Office\, 393 Blossom Hill\, San Jose\, CA\, 95123\, United States
CATEGORIES:External,SV DSA,WG - International Solidarity,WG - Mutual Aid
END:VEVENT
BEGIN:VEVENT
DTSTART;TZID=America/Los_Angeles:20310213T080000
DTEND;TZID=America/Los_Angeles:20310213T140000
DTSTAMP:20260421T155344
CREATED:20260225T052241Z
LAST-MODIFIED:20260225T052628Z
UID:10004011-1928736000-1928757600@siliconvalleydsa.org
SUMMARY:ICE Watch
DESCRIPTION:Please join us every Thursday at the ISAP office on Blossom Hill Rd at any time between 8am-2pm to help protect your neighbors from ICE kidnappings\, and get connected with more local organizing opportunities! We are especially in need of multilingual folks – Spanish\, Hindi\, Arabic\, and Mandarin speakers especially! \nLocation Details\nISAP Office\n393 Blossom Hill\nSan Jose CA 95123 \nParking \nThere is street parking nearby \nPublic Transportation \nBus: Blossom Hill & Judith (27)\,
URL:https://siliconvalleydsa.org/event/ice-watch/2031-02-13/
LOCATION:ISAP Office\, 393 Blossom Hill\, San Jose\, CA\, 95123\, United States
CATEGORIES:External,SV DSA,WG - International Solidarity,WG - Mutual Aid
END:VEVENT
BEGIN:VEVENT
DTSTART;TZID=America/Los_Angeles:20310220T080000
DTEND;TZID=America/Los_Angeles:20310220T140000
DTSTAMP:20260421T155344
CREATED:20260225T052241Z
LAST-MODIFIED:20260225T052628Z
UID:10004013-1929340800-1929362400@siliconvalleydsa.org
SUMMARY:ICE Watch
DESCRIPTION:Please join us every Thursday at the ISAP office on Blossom Hill Rd at any time between 8am-2pm to help protect your neighbors from ICE kidnappings\, and get connected with more local organizing opportunities! We are especially in need of multilingual folks – Spanish\, Hindi\, Arabic\, and Mandarin speakers especially! \nLocation Details\nISAP Office\n393 Blossom Hill\nSan Jose CA 95123 \nParking \nThere is street parking nearby \nPublic Transportation \nBus: Blossom Hill & Judith (27)\,
URL:https://siliconvalleydsa.org/event/ice-watch/2031-02-20/
LOCATION:ISAP Office\, 393 Blossom Hill\, San Jose\, CA\, 95123\, United States
CATEGORIES:External,SV DSA,WG - International Solidarity,WG - Mutual Aid
END:VEVENT
END:VCALENDAR