BEGIN:VCALENDAR
VERSION:2.0
PRODID:-//Silicon Valley DSA - ECPv6.15.20//NONSGML v1.0//EN
CALSCALE:GREGORIAN
METHOD:PUBLISH
X-WR-CALNAME:Silicon Valley DSA
X-ORIGINAL-URL:https://siliconvalleydsa.org
X-WR-CALDESC:Events for Silicon Valley DSA
REFRESH-INTERVAL;VALUE=DURATION:PT1H
X-Robots-Tag:noindex
X-PUBLISHED-TTL:PT1H
BEGIN:VTIMEZONE
TZID:America/Los_Angeles
BEGIN:DAYLIGHT
TZOFFSETFROM:-0800
TZOFFSETTO:-0700
TZNAME:PDT
DTSTART:20250309T100000
END:DAYLIGHT
BEGIN:STANDARD
TZOFFSETFROM:-0700
TZOFFSETTO:-0800
TZNAME:PST
DTSTART:20251102T090000
END:STANDARD
BEGIN:DAYLIGHT
TZOFFSETFROM:-0800
TZOFFSETTO:-0700
TZNAME:PDT
DTSTART:20260308T100000
END:DAYLIGHT
BEGIN:STANDARD
TZOFFSETFROM:-0700
TZOFFSETTO:-0800
TZNAME:PST
DTSTART:20261101T090000
END:STANDARD
BEGIN:DAYLIGHT
TZOFFSETFROM:-0800
TZOFFSETTO:-0700
TZNAME:PDT
DTSTART:20270314T100000
END:DAYLIGHT
BEGIN:STANDARD
TZOFFSETFROM:-0700
TZOFFSETTO:-0800
TZNAME:PST
DTSTART:20271107T090000
END:STANDARD
END:VTIMEZONE
BEGIN:VEVENT
DTSTART;TZID=America/Los_Angeles:20260208T110000
DTEND;TZID=America/Los_Angeles:20260208T180000
DTSTAMP:20260425T194953
CREATED:20260203T070839Z
LAST-MODIFIED:20260204T055645Z
UID:10003190-1770548400-1770573600@siliconvalleydsa.org
SUMMARY:ICE Out of the Super Bowl
DESCRIPTION:ICE has threatened our San José community by holding operations at the Levi Stadium the week of the Superbowl\, a coalition of community groups and unions demands ICE OUT OF SAN JOSÉ AND THE SUPERBOWL! \nKristi Noem wants to intimidate our community and continue the series of attacks against immigrants  we will show DHS we are ready to Stand Up and Fight back against these racist attacks! \nOn February 8th meet at the Berryessa Transit Center at 11 AM and we will travel together as a contingent to the action starting point!
URL:https://siliconvalleydsa.org/event/2026-02-08-superbowl/
LOCATION:Berryessa Transit Center\, 925 Berryessa Station Way\, San Jose\, CA\, 95133\, United States
CATEGORIES:SV DSA
ORGANIZER;CN="Silicon Valley DSA":MAILTO:info@siliconvalleydsa.org
END:VEVENT
END:VCALENDAR