BEGIN:VCALENDAR
VERSION:2.0
PRODID:-//Silicon Valley DSA - ECPv6.15.20//NONSGML v1.0//EN
CALSCALE:GREGORIAN
METHOD:PUBLISH
X-ORIGINAL-URL:https://siliconvalleydsa.org
X-WR-CALDESC:Events for Silicon Valley DSA
REFRESH-INTERVAL;VALUE=DURATION:PT1H
X-Robots-Tag:noindex
X-PUBLISHED-TTL:PT1H
BEGIN:VTIMEZONE
TZID:America/Los_Angeles
BEGIN:DAYLIGHT
TZOFFSETFROM:-0800
TZOFFSETTO:-0700
TZNAME:PDT
DTSTART:20250309T100000
END:DAYLIGHT
BEGIN:STANDARD
TZOFFSETFROM:-0700
TZOFFSETTO:-0800
TZNAME:PST
DTSTART:20251102T090000
END:STANDARD
BEGIN:DAYLIGHT
TZOFFSETFROM:-0800
TZOFFSETTO:-0700
TZNAME:PDT
DTSTART:20260308T100000
END:DAYLIGHT
BEGIN:STANDARD
TZOFFSETFROM:-0700
TZOFFSETTO:-0800
TZNAME:PST
DTSTART:20261101T090000
END:STANDARD
BEGIN:DAYLIGHT
TZOFFSETFROM:-0800
TZOFFSETTO:-0700
TZNAME:PDT
DTSTART:20270314T100000
END:DAYLIGHT
BEGIN:STANDARD
TZOFFSETFROM:-0700
TZOFFSETTO:-0800
TZNAME:PST
DTSTART:20271107T090000
END:STANDARD
END:VTIMEZONE
BEGIN:VEVENT
DTSTART;TZID=America/Los_Angeles:20260430T183000
DTEND;TZID=America/Los_Angeles:20260430T200000
DTSTAMP:20260422T224241
CREATED:20260413T162020Z
LAST-MODIFIED:20260421T203236Z
UID:10004943-1777573800-1777579200@siliconvalleydsa.org
SUMMARY:Fundamentals of Workplace Organizing: Session 1
DESCRIPTION:Interested in organizing your workplace or community? Join us on Thursday\, April 30th at 6:30pm at SEIU Local 521 to discuss how to get started with the fundamentals! Brought to you by the Silicon Valley Democratic Socialists of America! \nRSVP: https://docs.google.com/forms/d/e/1FAIpQLSdsBUZcw5RBjNHHknpHDsvd3REqxu3U0geHiY4HkQ3FJmVBig/viewform?usp=header \nLocation: 2302 Zanker Rd\, San Jose\, CA 95131
URL:https://siliconvalleydsa.org/event/fundamentals-of-workplace-organizing-session-1/
LOCATION:2302 Zanker Rd\, San Jose CA\, 2302 Zanker Rd\, San Jose\, OR\, 95112\, United States
END:VEVENT
END:VCALENDAR