BEGIN:VCALENDAR
VERSION:2.0
PRODID:-//Silicon Valley DSA - ECPv6.15.20//NONSGML v1.0//EN
CALSCALE:GREGORIAN
METHOD:PUBLISH
X-ORIGINAL-URL:https://siliconvalleydsa.org
X-WR-CALDESC:Events for Silicon Valley DSA
REFRESH-INTERVAL;VALUE=DURATION:PT1H
X-Robots-Tag:noindex
X-PUBLISHED-TTL:PT1H
BEGIN:VTIMEZONE
TZID:America/Los_Angeles
BEGIN:DAYLIGHT
TZOFFSETFROM:-0800
TZOFFSETTO:-0700
TZNAME:PDT
DTSTART:20250309T100000
END:DAYLIGHT
BEGIN:STANDARD
TZOFFSETFROM:-0700
TZOFFSETTO:-0800
TZNAME:PST
DTSTART:20251102T090000
END:STANDARD
BEGIN:DAYLIGHT
TZOFFSETFROM:-0800
TZOFFSETTO:-0700
TZNAME:PDT
DTSTART:20260308T100000
END:DAYLIGHT
BEGIN:STANDARD
TZOFFSETFROM:-0700
TZOFFSETTO:-0800
TZNAME:PST
DTSTART:20261101T090000
END:STANDARD
BEGIN:DAYLIGHT
TZOFFSETFROM:-0800
TZOFFSETTO:-0700
TZNAME:PDT
DTSTART:20270314T100000
END:DAYLIGHT
BEGIN:STANDARD
TZOFFSETFROM:-0700
TZOFFSETTO:-0800
TZNAME:PST
DTSTART:20271107T090000
END:STANDARD
END:VTIMEZONE
BEGIN:VEVENT
DTSTART;TZID=America/Los_Angeles:20260422T113000
DTEND;TZID=America/Los_Angeles:20260422T123000
DTSTAMP:20260420T033818
CREATED:20260418T203842Z
LAST-MODIFIED:20260418T203842Z
UID:10005088-1776857400-1776861000@siliconvalleydsa.org
SUMMARY:Scorched Earth: Earth Day Action
DESCRIPTION:
URL:https://siliconvalleydsa.org/event/2026-04-22-scorched-earth/
LOCATION:San Jose City Hall Plaza\, 200 E Santa Clara st.\, San Jose\, CA\, 95113\, United States
CATEGORIES:External,newbie-friendly,SV DSA
END:VEVENT
END:VCALENDAR