BEGIN:VCALENDAR
VERSION:2.0
PRODID:-//Silicon Valley DSA - ECPv6.15.20//NONSGML v1.0//EN
CALSCALE:GREGORIAN
METHOD:PUBLISH
X-ORIGINAL-URL:https://siliconvalleydsa.org
X-WR-CALDESC:Events for Silicon Valley DSA
REFRESH-INTERVAL;VALUE=DURATION:PT1H
X-Robots-Tag:noindex
X-PUBLISHED-TTL:PT1H
BEGIN:VTIMEZONE
TZID:America/Los_Angeles
BEGIN:DAYLIGHT
TZOFFSETFROM:-0800
TZOFFSETTO:-0700
TZNAME:PDT
DTSTART:20250309T100000
END:DAYLIGHT
BEGIN:STANDARD
TZOFFSETFROM:-0700
TZOFFSETTO:-0800
TZNAME:PST
DTSTART:20251102T090000
END:STANDARD
BEGIN:DAYLIGHT
TZOFFSETFROM:-0800
TZOFFSETTO:-0700
TZNAME:PDT
DTSTART:20260308T100000
END:DAYLIGHT
BEGIN:STANDARD
TZOFFSETFROM:-0700
TZOFFSETTO:-0800
TZNAME:PST
DTSTART:20261101T090000
END:STANDARD
BEGIN:DAYLIGHT
TZOFFSETFROM:-0800
TZOFFSETTO:-0700
TZNAME:PDT
DTSTART:20270314T100000
END:DAYLIGHT
BEGIN:STANDARD
TZOFFSETFROM:-0700
TZOFFSETTO:-0800
TZNAME:PST
DTSTART:20271107T090000
END:STANDARD
END:VTIMEZONE
BEGIN:VEVENT
DTSTART;TZID=America/Los_Angeles:20260105T183000
DTEND;TZID=America/Los_Angeles:20260105T193000
DTSTAMP:20260421T100735
CREATED:20250801T050944Z
LAST-MODIFIED:20260324T054651Z
UID:10002732-1767637800-1767641400@siliconvalleydsa.org
SUMMARY:Tech Committee Meeting
DESCRIPTION:The Tech Committee meets bi-weekly to organize and maintain our chapter’s tech infrastructure: the chapter website (https://svdsa.org)\, automations\, and more! If you’re curious about how we use technology for good or if you want to build systems that attract and empower DSA members\, join #cmte-tech-data on Slack or swing by the Zoom! \nRegister for the Zoom: https://us02web.zoom.us/meeting/register/XbMFPFzMQVGH1sXutjLxRg
URL:https://siliconvalleydsa.org/event/tech-committee-meeting-recurring/2026-01-05/
LOCATION:Zoom
CATEGORIES:Committee - Tech and Data,newbie-friendly,SV DSA
ORGANIZER;CN="Silicon Valley DSA":MAILTO:info@siliconvalleydsa.org
END:VEVENT
BEGIN:VEVENT
DTSTART;TZID=America/Los_Angeles:20260105T190000
DTEND;TZID=America/Los_Angeles:20260105T200000
DTSTAMP:20260421T100735
CREATED:20251223T032335Z
LAST-MODIFIED:20260414T134622Z
UID:10001487-1767639600-1767643200@siliconvalleydsa.org
SUMMARY:Comms Committee Meeting
DESCRIPTION:A lot of work goes into keeping our chapter running behind the scenes. The Comms Committee focuses on outreach and communication\, including the monthly newsletter and social media acounts. Please feel free to join and learn about what it takes to reach out to our community. \nRegister for the Zoom here: https://us06web.zoom.us/meeting/register/dFuBcKG2QwKNB-0acfruSg
URL:https://siliconvalleydsa.org/event/comms-committee-meeting-recurring-2/2026-01-05/
LOCATION:Zoom
CATEGORIES:Committee - Communications,SV DSA
ATTACH;FMTTYPE=image/png:https://siliconvalleydsa.org/wp-content/uploads/2020/03/sv_dsa_logo_text_red.png
ORGANIZER;CN="Silicon Valley DSA":MAILTO:info@siliconvalleydsa.org
END:VEVENT
BEGIN:VEVENT
DTSTART;TZID=America/Los_Angeles:20260106T180000
DTEND;TZID=America/Los_Angeles:20260106T193000
DTSTAMP:20260421T100735
CREATED:20251214T045957Z
LAST-MODIFIED:20260219T044058Z
UID:10002717-1767722400-1767727800@siliconvalleydsa.org
SUMMARY:Leadership Meeting: Steering Committee
DESCRIPTION:The elected officers (Steering Committee) meet every week on Zoom to check in on our Chapter’s administration\, make decisions on behalf of the Chapter in between general meetings\, and collaborate on urgent tasks. If you’re interested in the nuts and bolts of Chapter administration or have questions for the officers\, you’re welcome to attend. \nRegister on Zoom: https://us02web.zoom.us/meeting/register/pP5BIdvzQMKTuXGL-d-ohw#/registration.
URL:https://siliconvalleydsa.org/event/leadership-meeting-steering-committee-recurring/2026-01-06/
LOCATION:Zoom
CATEGORIES:Steering Committee,SV DSA
ORGANIZER;CN="Silicon Valley DSA":MAILTO:info@siliconvalleydsa.org
END:VEVENT
BEGIN:VEVENT
DTSTART;TZID=America/Los_Angeles:20260107T183000
DTEND;TZID=America/Los_Angeles:20260107T200000
DTSTAMP:20260421T100735
CREATED:20251120T034453Z
LAST-MODIFIED:20260313T190511Z
UID:10002598-1767810600-1767816000@siliconvalleydsa.org
SUMMARY:International Solidarity WG Meeting
DESCRIPTION:Join our International Solidarity Working Group as we organize for a free Palestine\, protections for immigrants\, an end to US imperialism\, and a liberated international working class! \nPlease register for the Zoom meeting here: https://us06web.zoom.us/meeting/register/Pzfk-whGRre39zr8rv2Dew \nRead more about the International Solidarity Working Group at https://siliconvalleydsa.org/international-solidarity/.
URL:https://siliconvalleydsa.org/event/international-solidarity-wg-meeting-recurring-2/2026-01-07/
LOCATION:CA
CATEGORIES:SV DSA,WG - International Solidarity
END:VEVENT
BEGIN:VEVENT
DTSTART;TZID=America/Los_Angeles:20260108T180000
DTEND;TZID=America/Los_Angeles:20260108T190000
DTSTAMP:20260421T100735
CREATED:20260102T185233Z
LAST-MODIFIED:20260102T204428Z
UID:10002741-1767895200-1767898800@siliconvalleydsa.org
SUMMARY:Social Committee Meeting
DESCRIPTION:Interested in building community and camaraderie? Looking for more opportunities to blow off steam and connect with people who share your values? \nJoin the Social Committee for our monthly meeting to help organize and facilitate social events for our comrades! \nRegister for the Zoom: https://us02web.zoom.us/meeting/register/-LRiYpXYRSOVG2C6yf6hJA
URL:https://siliconvalleydsa.org/event/social-committee-meeting/
LOCATION:CA
CATEGORIES:Committee - Social,newbie-friendly,SV DSA
END:VEVENT
BEGIN:VEVENT
DTSTART;TZID=America/Los_Angeles:20260108T183000
DTEND;TZID=America/Los_Angeles:20260108T193000
DTSTAMP:20260421T100735
CREATED:20251119T053141Z
LAST-MODIFIED:20251214T025639Z
UID:10001532-1767897000-1767900600@siliconvalleydsa.org
SUMMARY:Electoral Working Group Meeting
DESCRIPTION:The electoral working group will meet to discuss and plan for current and future electoral projects. All are welcome. \nRegister for the Zoom here: https://us02web.zoom.us/meeting/register/lMhKwarkTNqJPSg6qjXeUQ
URL:https://siliconvalleydsa.org/event/electoral-wg-meeting-recurring-2/2026-01-08/
LOCATION:Zoom
CATEGORIES:SV DSA,WG - Electoral
ORGANIZER;CN="Silicon Valley DSA":MAILTO:info@siliconvalleydsa.org
END:VEVENT
BEGIN:VEVENT
DTSTART;TZID=America/Los_Angeles:20260108T183000
DTEND;TZID=America/Los_Angeles:20260108T193000
DTSTAMP:20260421T100735
CREATED:20251123T205823Z
LAST-MODIFIED:20260414T134609Z
UID:10002608-1767897000-1767900600@siliconvalleydsa.org
SUMMARY:Labor Working Group Meeting
DESCRIPTION:Join the Labor Working Group in organizing workers of Silicon Valley as we fight for the basic human dignity of all laborers! We will discuss the chapter’s involvement in local labor actions and our own programming. If you have topics you’d like to bring up\, please share in the chapter Slack! \nRegister for zoom meeting: https://us06web.zoom.us/meeting/register/3iVDqRZfSeKaq3vl69my-A \nRead more about the Labor Working Group: https://siliconvalleydsa.org/labor/
URL:https://siliconvalleydsa.org/event/labor-working-group-meeting-recurring/2026-01-08/
LOCATION:CA
CATEGORIES:SV DSA,WG - Labor
END:VEVENT
BEGIN:VEVENT
DTSTART;TZID=America/Los_Angeles:20260108T193000
DTEND;TZID=America/Los_Angeles:20260108T203000
DTSTAMP:20260421T100735
CREATED:20260104T021812Z
LAST-MODIFIED:20260104T021939Z
UID:10002742-1767900600-1767904200@siliconvalleydsa.org
SUMMARY:Preliminary Convention Planning Committee Meeting
DESCRIPTION:If you are excited about continuing to build our chapter in 2026\, join this meeting! \nAt our January General Chapter meeting\, we will be discussing and voting on this resolution about our 2026 Chapter Convention (Saturday\, March 28 – mark your calendars). If the resolution passes\, we will be forming a Convention Planning Committee. This committee will include all sorts of roles\, including those focused on strategy\, those focused on logistics\, and those focused on social aspects of the event. if you’re looking for any type of way to participate in our chapter – join this committee! \nThis meeting is an informal\, preliminary committee meeting on Thursday\, January 8 at 7:30pm on Zoom. This will primarily be focused on starting to plan the Working Session (Sunday\, February 1). Since the resolution has not yet passed\, this meeting is informal / preliminary – we just want more time to plan the Working Session given that it’s just a week after the January chapter meeting. \nZoom: https://us02web.zoom.us/meeting/register/AQm4-uYaRkik1NPN8JpWBQ \n 
URL:https://siliconvalleydsa.org/event/preliminary-convention-planning-committee-meeting/
LOCATION:Zoom
END:VEVENT
BEGIN:VEVENT
DTSTART;TZID=America/Los_Angeles:20260109T083000
DTEND;TZID=America/Los_Angeles:20260109T173000
DTSTAMP:20260421T100735
CREATED:20260109T060712Z
LAST-MODIFIED:20260109T060712Z
UID:10002749-1767947400-1767979800@siliconvalleydsa.org
SUMMARY:PACK THE COURT: Opening Arguments for Stanford 11's Trial
DESCRIPTION:[URGENT ACTION] ‼️PACK THE COURT‼️ for the Stanford 11 at 8:30 AM on Friday January 9 at the Hall of Justice\, Department 53\, 190-200 W. Hedding St\, San Jose\, CA 95110 \nIn June 2024\, students\, alumni\, and one student reporter were arrested at a sit-in of the office of Stanford University’s president in protest of Stanford’s complicity with Israel’s genocide in Palestine. In Santa Clara County\, the District Attorney Jeff Rosen has chosen to charge these protesters against genocide with felonies\, and 11 Stanford community members have been indicted on two grand jury charges\, making them the first out of thousands of protesters across the nation in the past two years to go to felony trial over their pro-Palestinian activism. \nThe opening arguments in the Stanford 11’s trial begins on January 9. Show up and pack the court in order to support the Stanford 11\, as they fight trumped up charges just for their courage to call out Stanford’s complicity in the genocide! \nIf you can’t show up\, check out Stanford SJP’s action toolkit here about how to support the Stanford 11 through mutual aid for trial expenses as well as calling and emailing public officials. Follow @stanfordsjp and @sit_in_to_stop_genocide for more updates!
URL:https://siliconvalleydsa.org/event/pack-the-court-opening-arguments-for-stanford-11s-trial/
LOCATION:CA
END:VEVENT
BEGIN:VEVENT
DTSTART;TZID=America/Los_Angeles:20260109T170000
DTEND;TZID=America/Los_Angeles:20260109T193000
DTSTAMP:20260421T100735
CREATED:20260109T060442Z
LAST-MODIFIED:20260109T060454Z
UID:10002748-1767978000-1767987000@siliconvalleydsa.org
SUMMARY:Stanford SJP: Advance Screening of the Voice of Hind Rajab
DESCRIPTION:This Friday at 5 PM\, at Oshman Hall at Stanford\, join Stanford Students for Justice in Palestine for dinner and an advance screening of The Voice of Hind Rajab! From Oscar-nominated filmmaker Kaouther Ben Hania\, the film is a powerful portrait of courage and humanity based on real call recordings of five-year-old Hind Rajab to the Palestine Red Crescent during the bombing in the ongoing genocide in Gaza. \nFollow @stanfordsjp on Instagram for more Stanford SJP events!
URL:https://siliconvalleydsa.org/event/stanford-sjp-advance-screening-of-the-voice-of-hind-rajab/
LOCATION:CA
END:VEVENT
BEGIN:VEVENT
DTSTART;TZID=America/Los_Angeles:20260110T090000
DTEND;TZID=America/Los_Angeles:20260110T120000
DTSTAMP:20260421T100735
CREATED:20250708T013327Z
LAST-MODIFIED:20260408T013516Z
UID:10001046-1768035600-1768046400@siliconvalleydsa.org
SUMMARY:SJPJC Garden Day
DESCRIPTION:The Silicon Valley DSA Mutual Aid Working group\, in association with San Jose Food Not Bombs and South Bay Mutual Aid\, is hosting a garden and build day this Saturday at the San Jose Peace and Justice Center (SJPJC)! We will be moving soil\, planting plants\, garden maintenance\, and finishing the drip irrigation! Be sure to bring gloves\, a hat\, earplugs\, sunglasses\, and sunscreen! If you have tools like a shovel\, they will be needed! \nLocation Details\nSan Jose Peace & Justice Center Parking Lot\n48 S. 7th Street\nSan Jose CA 95112 \nParking \nThere is street parking and parking garages close by on 4th street. Do not park at the Grocery Outlet they will tow your car. \nPublic Transportation\n \nBus: 7th & Santa Clara (Rapid 523\, 64)\, San Carlos / 7th (22\, 23\, 66)\, San Fernando & 7th (72\,73) \nLight Rail: Santa Clara Station – Blue and Green Line \nTrain: San Jose Diridon Station – take Rapid 500 to Santa Clara / 6th or 22 to San Carlos / 7th \nWheelchair Accessibility\n\nWe will mostly be working outside the Center itself in the garden. To enter the Center itself: There is a wheelchair lift to access the 1st floor behind the building past the gate. Please ring the doorbell next to the lift for assistance. \nGuidelines \nFor anyone entering the Center\, it is recommended that you wear a mask. Thank you!
URL:https://siliconvalleydsa.org/event/sjpjc-garden-day/2026-01-10/
LOCATION:San José Peace and Justice Center\, San Jose Peace and Justice Center\, 48 S 7th St\, San Jose\, CA\, 95112\, United States
CATEGORIES:newbie-friendly,WG - Mutual Aid
ORGANIZER;CN="Silicon Valley DSA":MAILTO:info@siliconvalleydsa.org
END:VEVENT
BEGIN:VEVENT
DTSTART;TZID=America/Los_Angeles:20260110T110000
DTEND;TZID=America/Los_Angeles:20260110T130000
DTSTAMP:20260421T100735
CREATED:20260109T020243Z
LAST-MODIFIED:20260109T040220Z
UID:10002746-1768042800-1768050000@siliconvalleydsa.org
SUMMARY:Rapid Response Network Training
DESCRIPTION:Come join us on January 10 from 11AM to 1PM at the Cupertino Library to learn how to defend your immigrant neighbors from ICE. \nThe training will train you to become an RRN Observer for the Rapid Response Network in Santa Clara County. Show up and make a difference and protect your neighbors rights.
URL:https://siliconvalleydsa.org/event/2026-01-10-rrn/
LOCATION:Cupertino Library\, 10800 Torre Ave\, Cupertino\, CA\, 95014\, United States
CATEGORIES:newbie-friendly,SV DSA
ORGANIZER;CN="Silicon Valley DSA":MAILTO:info@siliconvalleydsa.org
END:VEVENT
BEGIN:VEVENT
DTSTART;TZID=America/Los_Angeles:20260110T150000
DTEND;TZID=America/Los_Angeles:20260110T170000
DTSTAMP:20260421T100735
CREATED:20260109T015424Z
LAST-MODIFIED:20260109T033314Z
UID:10002745-1768057200-1768064400@siliconvalleydsa.org
SUMMARY:March and Rally for Renee Good and Venezuela!
DESCRIPTION:While the Trump administration salivates about stealing the Venezuelan peoples’ oil\, the terror has struck again at home. Renee Good\, legal observer and mother\, was murdered by ICE in cold blood. Join Silicon Valley DSA\, the San Jose Peace and Justice Center\, the Ross-Galarza Club Communist Party USA\, and Party of Socialism and Liberation Bay Area as we denounce the imperialist war on Venezuela and remember the life and work of Renee Good! \nResist Trump’s terror abroad and at home! \nJoin us on Saturday 1/10 at 3 PM at Peace Corner on the corner of Stevens Creek and Winchester Blvd.
URL:https://siliconvalleydsa.org/event/2026-01-10-protest/
LOCATION:Peace Corner San Jose – Santana Row\, 3071 Stevens Creek Blvd\, Santa Clara\, CA\, 95050
CATEGORIES:newbie-friendly,protest-101,SV DSA
END:VEVENT
END:VCALENDAR