BEGIN:VCALENDAR
VERSION:2.0
PRODID:-//Silicon Valley DSA - ECPv6.15.20//NONSGML v1.0//EN
CALSCALE:GREGORIAN
METHOD:PUBLISH
X-WR-CALNAME:Silicon Valley DSA
X-ORIGINAL-URL:https://siliconvalleydsa.org
X-WR-CALDESC:Events for Silicon Valley DSA
REFRESH-INTERVAL;VALUE=DURATION:PT1H
X-Robots-Tag:noindex
X-PUBLISHED-TTL:PT1H
BEGIN:VTIMEZONE
TZID:America/Los_Angeles
BEGIN:DAYLIGHT
TZOFFSETFROM:-0800
TZOFFSETTO:-0700
TZNAME:PDT
DTSTART:20240310T100000
END:DAYLIGHT
BEGIN:STANDARD
TZOFFSETFROM:-0700
TZOFFSETTO:-0800
TZNAME:PST
DTSTART:20241103T090000
END:STANDARD
BEGIN:DAYLIGHT
TZOFFSETFROM:-0800
TZOFFSETTO:-0700
TZNAME:PDT
DTSTART:20250309T100000
END:DAYLIGHT
BEGIN:STANDARD
TZOFFSETFROM:-0700
TZOFFSETTO:-0800
TZNAME:PST
DTSTART:20251102T090000
END:STANDARD
BEGIN:DAYLIGHT
TZOFFSETFROM:-0800
TZOFFSETTO:-0700
TZNAME:PDT
DTSTART:20260308T100000
END:DAYLIGHT
BEGIN:STANDARD
TZOFFSETFROM:-0700
TZOFFSETTO:-0800
TZNAME:PST
DTSTART:20261101T090000
END:STANDARD
END:VTIMEZONE
BEGIN:VEVENT
DTSTART;TZID=America/Los_Angeles:20250422T180000
DTEND;TZID=America/Los_Angeles:20250422T193000
DTSTAMP:20260420T011501
CREATED:20240425T032820Z
LAST-MODIFIED:20250421T205719Z
UID:10000542-1745344800-1745350200@siliconvalleydsa.org
SUMMARY:Leadership Meeting: Chapter Committee
DESCRIPTION:The elected officers (Chapter Committee) meet every two weeks or more on zoom to check in on our chapter’s admin committees\, make decisions on behalf of the chapter in between general meetings\, and collaborate on urgent tasks. If you’re interested in the nuts and bolts of chapter administration or have questions for the officers\, you’re welcome to attend. \nRegistration link for zoom here.
URL:https://siliconvalleydsa.org/event/2025-02-04-cc-3-7-2/
LOCATION:Zoom
CATEGORIES:Steering Committee,SV DSA
ORGANIZER;CN="Silicon Valley DSA":MAILTO:info@siliconvalleydsa.org
END:VEVENT
BEGIN:VEVENT
DTSTART;TZID=America/Los_Angeles:20250420T170000
DTEND;TZID=America/Los_Angeles:20250420T200000
DTSTAMP:20260420T011501
CREATED:20250418T010300Z
LAST-MODIFIED:20250418T032833Z
UID:10000619-1745168400-1745179200@siliconvalleydsa.org
SUMMARY:Distressing Workshop
DESCRIPTION:San Jose Clothing Swap’s Mending Crew is hosting our first workshop! We’ll be distressing hoodies (and any other garments you’d like to bring) using razors. Protective gloves and masks will be provided\, and required! Protective eyewear optional and not provided. \nThe workshop will be at the San Jose Peace & Justice Center from 5 – 8 PM on April 20th. We got around 15 spots\, so sign up below so we can get an idea of how many folks will be showing up. \nRSVP Here!
URL:https://siliconvalleydsa.org/event/2020-04-20-mendingcrew/
LOCATION:San José Peace and Justice Center\, San Jose Peace and Justice Center\, 48 S 7th St\, San Jose\, CA\, 95112\, United States
CATEGORIES:External,newbie-friendly
END:VEVENT
END:VCALENDAR