BEGIN:VCALENDAR
VERSION:2.0
PRODID:-//Silicon Valley DSA - ECPv6.15.20//NONSGML v1.0//EN
CALSCALE:GREGORIAN
METHOD:PUBLISH
X-WR-CALNAME:Silicon Valley DSA
X-ORIGINAL-URL:https://siliconvalleydsa.org
X-WR-CALDESC:Events for Silicon Valley DSA
REFRESH-INTERVAL;VALUE=DURATION:PT1H
X-Robots-Tag:noindex
X-PUBLISHED-TTL:PT1H
BEGIN:VTIMEZONE
TZID:America/Los_Angeles
BEGIN:DAYLIGHT
TZOFFSETFROM:-0800
TZOFFSETTO:-0700
TZNAME:PDT
DTSTART:20240310T100000
END:DAYLIGHT
BEGIN:STANDARD
TZOFFSETFROM:-0700
TZOFFSETTO:-0800
TZNAME:PST
DTSTART:20241103T090000
END:STANDARD
BEGIN:DAYLIGHT
TZOFFSETFROM:-0800
TZOFFSETTO:-0700
TZNAME:PDT
DTSTART:20250309T100000
END:DAYLIGHT
BEGIN:STANDARD
TZOFFSETFROM:-0700
TZOFFSETTO:-0800
TZNAME:PST
DTSTART:20251102T090000
END:STANDARD
BEGIN:DAYLIGHT
TZOFFSETFROM:-0800
TZOFFSETTO:-0700
TZNAME:PDT
DTSTART:20260308T100000
END:DAYLIGHT
BEGIN:STANDARD
TZOFFSETFROM:-0700
TZOFFSETTO:-0800
TZNAME:PST
DTSTART:20261101T090000
END:STANDARD
END:VTIMEZONE
BEGIN:VEVENT
DTSTART;TZID=America/Los_Angeles:20250426T130000
DTEND;TZID=America/Los_Angeles:20250426T150000
DTSTAMP:20260424T043627
CREATED:20250103T032737Z
LAST-MODIFIED:20250424T025510Z
UID:10000612-1745672400-1745679600@siliconvalleydsa.org
SUMMARY:April Chapter Meeting (Game Social + Action)
DESCRIPTION:RSVP here \nJoin Silicon Valley DSA for our April General Meeting featuring a game social and announcements! This will be a fun space to socialize with comrades and get to know each other better. We will have a bunch of fun games to play\, such as Taboo\, Jenga\, Coup\, Fuse\, and Bananagrams. \nThis meeting and the game social will primarily be held in person at the San José Peace and Justice Center. Zoom will only be included for the business portion at the very beginning\, which will be short. Register for Zoom here. \nWe welcome everyone to our meetings\, whether you have been involved for a long time or are just curious to learn more. To take part in Chapter decisions as a voting member of the Chapter\, please sign up with National DSA at https://dsausa.org/join.
URL:https://siliconvalleydsa.org/event/april-2025-chapter-game-social/
LOCATION:San José Peace and Justice Center\, San Jose Peace and Justice Center\, 48 S 7th St\, San Jose\, CA\, 95112\, United States
CATEGORIES:General Meeting,newbie-friendly,SV DSA
ORGANIZER;CN="Silicon Valley DSA":MAILTO:info@siliconvalleydsa.org
END:VEVENT
BEGIN:VEVENT
DTSTART;TZID=America/Los_Angeles:20250424T183000
DTEND;TZID=America/Los_Angeles:20250424T200000
DTSTAMP:20260424T043627
CREATED:20250110T020809Z
LAST-MODIFIED:20250411T075819Z
UID:10000629-1745519400-1745524800@siliconvalleydsa.org
SUMMARY:International Solidarity WG Meeting
DESCRIPTION:Join our International Solidarity Working Group as we organize for a free Palestine\, protections for immigrants\, an end to U.S. support for fascism\, and a liberated international working class! \nPlease request to join our Google Group for the Zoom link: https://groups.google.com/g/sv-dsa-wg-international/about . Click “Ask to join group” if you have a GMail account\, or “Contact owners and managers” if you do not. You can also reach out to #wg-international-solidarity on Slack. \nRead more about the International Solidarity Working Group here.
URL:https://siliconvalleydsa.org/event/international-solidarity-wg-meeting-apr-24/
LOCATION:Zoom
CATEGORIES:newbie-friendly,SV DSA,WG - International Solidarity
ORGANIZER;CN="Silicon Valley DSA":MAILTO:info@siliconvalleydsa.org
END:VEVENT
END:VCALENDAR