BEGIN:VCALENDAR
VERSION:2.0
PRODID:-//Silicon Valley DSA - ECPv6.15.20//NONSGML v1.0//EN
CALSCALE:GREGORIAN
METHOD:PUBLISH
X-ORIGINAL-URL:https://siliconvalleydsa.org
X-WR-CALDESC:Events for Silicon Valley DSA
REFRESH-INTERVAL;VALUE=DURATION:PT1H
X-Robots-Tag:noindex
X-PUBLISHED-TTL:PT1H
BEGIN:VTIMEZONE
TZID:America/Los_Angeles
BEGIN:DAYLIGHT
TZOFFSETFROM:-0800
TZOFFSETTO:-0700
TZNAME:PDT
DTSTART:20250309T100000
END:DAYLIGHT
BEGIN:STANDARD
TZOFFSETFROM:-0700
TZOFFSETTO:-0800
TZNAME:PST
DTSTART:20251102T090000
END:STANDARD
BEGIN:DAYLIGHT
TZOFFSETFROM:-0800
TZOFFSETTO:-0700
TZNAME:PDT
DTSTART:20260308T100000
END:DAYLIGHT
BEGIN:STANDARD
TZOFFSETFROM:-0700
TZOFFSETTO:-0800
TZNAME:PST
DTSTART:20261101T090000
END:STANDARD
BEGIN:DAYLIGHT
TZOFFSETFROM:-0800
TZOFFSETTO:-0700
TZNAME:PDT
DTSTART:20270314T100000
END:DAYLIGHT
BEGIN:STANDARD
TZOFFSETFROM:-0700
TZOFFSETTO:-0800
TZNAME:PST
DTSTART:20271107T090000
END:STANDARD
END:VTIMEZONE
BEGIN:VEVENT
DTSTART;TZID=America/Los_Angeles:20260311T183000
DTEND;TZID=America/Los_Angeles:20260311T200000
DTSTAMP:20260420T031000
CREATED:20251120T034453Z
LAST-MODIFIED:20260313T190511Z
UID:10002604-1773253800-1773259200@siliconvalleydsa.org
SUMMARY:International Solidarity WG Meeting
DESCRIPTION:Join our International Solidarity Working Group as we organize for a free Palestine\, protections for immigrants\, an end to US imperialism\, and a liberated international working class! \nPlease register for the Zoom meeting here: https://us06web.zoom.us/meeting/register/Pzfk-whGRre39zr8rv2Dew \nRead more about the International Solidarity Working Group at https://siliconvalleydsa.org/international-solidarity/.
URL:https://siliconvalleydsa.org/event/international-solidarity-wg-meeting-recurring-2/2026-03-11/
LOCATION:CA
CATEGORIES:SV DSA,WG - International Solidarity
END:VEVENT
BEGIN:VEVENT
DTSTART;TZID=America/Los_Angeles:20260312T080000
DTEND;TZID=America/Los_Angeles:20260312T140000
DTSTAMP:20260420T031000
CREATED:20260225T052241Z
LAST-MODIFIED:20260225T052628Z
UID:10003497-1773302400-1773324000@siliconvalleydsa.org
SUMMARY:ICE Watch
DESCRIPTION:Please join us every Thursday at the ISAP office on Blossom Hill Rd at any time between 8am-2pm to help protect your neighbors from ICE kidnappings\, and get connected with more local organizing opportunities! We are especially in need of multilingual folks – Spanish\, Hindi\, Arabic\, and Mandarin speakers especially! \nLocation Details\nISAP Office\n393 Blossom Hill\nSan Jose CA 95123 \nParking \nThere is street parking nearby \nPublic Transportation \nBus: Blossom Hill & Judith (27)\,
URL:https://siliconvalleydsa.org/event/ice-watch/2026-03-12/
LOCATION:ISAP Office\, 393 Blossom Hill\, San Jose\, CA\, 95123\, United States
CATEGORIES:External,SV DSA,WG - International Solidarity,WG - Mutual Aid
END:VEVENT
BEGIN:VEVENT
DTSTART;TZID=America/Los_Angeles:20260314T143000
DTEND;TZID=America/Los_Angeles:20260314T170000
DTSTAMP:20260420T031000
CREATED:20260311T021315Z
LAST-MODIFIED:20260311T044757Z
UID:10004022-1773498600-1773507600@siliconvalleydsa.org
SUMMARY:Immigrant Rights Canvas
DESCRIPTION:Join the International Solidarity Working Group\, Community Safety\, and the Mutual Aid Working Group protect our neighbors by asking business to hang the Rapid Response Network poster\, informing community members of their rights if approached by ICE\, and distributing whistle kits! \n\nRSVP Here! \n\nMeeting Location Details\nCorner of S King and Story\nS King Rd & Story Rd\nSan Jose\, CA 95122 \nParking \nThere is street parking and paid parking.  Parking will be very limited \nPublic Transportation\n \nBus Stops: Story and King (VTA Line 25)\, King &Story (VTA Line 22\, 77) \nGuidelines \nMasks are optional for this event. \n\n \n 
URL:https://siliconvalleydsa.org/event/2026-03-14-immigrant-rights-canvas/
LOCATION:Corner of King and Story\, S King Rd & Story Rd\, San Jose\, CA\, 95122\, United States
CATEGORIES:SV DSA,WG - International Solidarity,WG - Mutual Aid
ORGANIZER;CN="Silicon Valley DSA":MAILTO:info@siliconvalleydsa.org
END:VEVENT
END:VCALENDAR