BEGIN:VCALENDAR
VERSION:2.0
PRODID:-//Silicon Valley DSA - ECPv6.15.20//NONSGML v1.0//EN
CALSCALE:GREGORIAN
METHOD:PUBLISH
X-WR-CALNAME:Silicon Valley DSA
X-ORIGINAL-URL:https://siliconvalleydsa.org
X-WR-CALDESC:Events for Silicon Valley DSA
REFRESH-INTERVAL;VALUE=DURATION:PT1H
X-Robots-Tag:noindex
X-PUBLISHED-TTL:PT1H
BEGIN:VTIMEZONE
TZID:America/Los_Angeles
BEGIN:DAYLIGHT
TZOFFSETFROM:-0800
TZOFFSETTO:-0700
TZNAME:PDT
DTSTART:20250309T100000
END:DAYLIGHT
BEGIN:STANDARD
TZOFFSETFROM:-0700
TZOFFSETTO:-0800
TZNAME:PST
DTSTART:20251102T090000
END:STANDARD
BEGIN:DAYLIGHT
TZOFFSETFROM:-0800
TZOFFSETTO:-0700
TZNAME:PDT
DTSTART:20260308T100000
END:DAYLIGHT
BEGIN:STANDARD
TZOFFSETFROM:-0700
TZOFFSETTO:-0800
TZNAME:PST
DTSTART:20261101T090000
END:STANDARD
BEGIN:DAYLIGHT
TZOFFSETFROM:-0800
TZOFFSETTO:-0700
TZNAME:PDT
DTSTART:20270314T100000
END:DAYLIGHT
BEGIN:STANDARD
TZOFFSETFROM:-0700
TZOFFSETTO:-0800
TZNAME:PST
DTSTART:20271107T090000
END:STANDARD
END:VTIMEZONE
BEGIN:VEVENT
DTSTART;TZID=America/Los_Angeles:20260215T121500
DTEND;TZID=America/Los_Angeles:20260215T140000
DTSTAMP:20260420T060953
CREATED:20260130T164526Z
LAST-MODIFIED:20260130T232959Z
UID:10003164-1771157700-1771164000@siliconvalleydsa.org
SUMMARY:No Appetite for Apartheid San Jose Educational
DESCRIPTION:An educational about our ongoing campaign called No Appetite for Apartheid\, a campaign where we canvass businesses in San Jose to drop Zionist food products and put up a flyer publicly sharing that their business is Apartheid-Free to show community support for Palestine. \nThis educational will inform attendees about the nuts and bolts of the campaign in order to mobilize them into joining our efforts locally in San Jose. \n  \nParking \nThere is street parking and parking garages close by on 4th street. Do not park at the Grocery Outlet they will tow your car. \nPublic Transportation\n \nBus: 7th & Santa Clara (Rapid 523\, 64)\, San Carlos / 7th (22\, 23\, 66)\, San Fernando & 7th (72\,73) \nLight Rail: Santa Clara Station – Blue and Green Line \nTrain: San Jose Diridon Station – take Rapid 500 to Santa Clara / 6th or 22 to San Carlos / 7th \nWheelchair Accessibility\n\nWe will be in the Center’s main room. To enter the Center: There is a wheelchair lift to access the 1st floor behind the building past the gate. Please ring the doorbell next to the lift for assistance. \nGuidelines \nFor anyone entering the Center\, it is recommended that you wear a mask. Thank you!
URL:https://siliconvalleydsa.org/event/2026-02-15-no-appetite-for-apartheid-san-jose-educational/
LOCATION:San José Peace and Justice Center\, San Jose Peace and Justice Center\, 48 S 7th St\, San Jose\, CA\, 95112\, United States
CATEGORIES:SV DSA,WG - International Solidarity
ORGANIZER;CN="Silicon Valley DSA":MAILTO:info@siliconvalleydsa.org
END:VEVENT
BEGIN:VEVENT
DTSTART;TZID=America/Los_Angeles:20260218T183000
DTEND;TZID=America/Los_Angeles:20260218T200000
DTSTAMP:20260420T060953
CREATED:20251120T034453Z
LAST-MODIFIED:20260313T190511Z
UID:10002603-1771439400-1771444800@siliconvalleydsa.org
SUMMARY:International Solidarity WG Meeting
DESCRIPTION:Join our International Solidarity Working Group as we organize for a free Palestine\, protections for immigrants\, an end to US imperialism\, and a liberated international working class! \nPlease register for the Zoom meeting here: https://us06web.zoom.us/meeting/register/Pzfk-whGRre39zr8rv2Dew \nRead more about the International Solidarity Working Group at https://siliconvalleydsa.org/international-solidarity/.
URL:https://siliconvalleydsa.org/event/international-solidarity-wg-meeting-recurring-2/2026-02-18/
LOCATION:CA
CATEGORIES:SV DSA,WG - International Solidarity
END:VEVENT
END:VCALENDAR