BEGIN:VCALENDAR
VERSION:2.0
PRODID:-//Silicon Valley DSA - ECPv6.15.20//NONSGML v1.0//EN
CALSCALE:GREGORIAN
METHOD:PUBLISH
X-WR-CALNAME:Silicon Valley DSA
X-ORIGINAL-URL:https://siliconvalleydsa.org
X-WR-CALDESC:Events for Silicon Valley DSA
REFRESH-INTERVAL;VALUE=DURATION:PT1H
X-Robots-Tag:noindex
X-PUBLISHED-TTL:PT1H
BEGIN:VTIMEZONE
TZID:America/Los_Angeles
BEGIN:DAYLIGHT
TZOFFSETFROM:-0800
TZOFFSETTO:-0700
TZNAME:PDT
DTSTART:20250309T100000
END:DAYLIGHT
BEGIN:STANDARD
TZOFFSETFROM:-0700
TZOFFSETTO:-0800
TZNAME:PST
DTSTART:20251102T090000
END:STANDARD
BEGIN:DAYLIGHT
TZOFFSETFROM:-0800
TZOFFSETTO:-0700
TZNAME:PDT
DTSTART:20260308T100000
END:DAYLIGHT
BEGIN:STANDARD
TZOFFSETFROM:-0700
TZOFFSETTO:-0800
TZNAME:PST
DTSTART:20261101T090000
END:STANDARD
BEGIN:DAYLIGHT
TZOFFSETFROM:-0800
TZOFFSETTO:-0700
TZNAME:PDT
DTSTART:20270314T100000
END:DAYLIGHT
BEGIN:STANDARD
TZOFFSETFROM:-0700
TZOFFSETTO:-0800
TZNAME:PST
DTSTART:20271107T090000
END:STANDARD
END:VTIMEZONE
BEGIN:VEVENT
DTSTART;TZID=America/Los_Angeles:20260128T153000
DTEND;TZID=America/Los_Angeles:20260128T153000
DTSTAMP:20260420T161155
CREATED:20260124T211815Z
LAST-MODIFIED:20260124T215046Z
UID:10003025-1769614200-1769614200@siliconvalleydsa.org
SUMMARY:ICE Out of the Bay SJSU
DESCRIPTION:DOWN WITH ICE!  Join us this coming Wednesday 3:30 PM in front of Cesar Chavez Arch.  As ICE murders people in cold blood\, abducts our neighbors and threatens to escalate its presence at the Super Bowl here in the bay\, we as students must take a stand \nLocation Details\nSan Jose State University Cesar Chavez Arch\n1 Washington Square\nSan Jose\, CA 95192 \nParking \nThere is street parking and parking garages close by on 4th street. Do not park at the Grocery Outlet they will tow your car. \nPublic Transportation \nBus: 7th & Santa Clara (Rapid 523\, 64)\, San Carlos / 7th (22\, 23\, 66)\, San Fernando & 7th (72\,73) \nLight Rail: Santa Clara Station – Blue and Green Line \nTrain: San Jose Diridon Station – take Line 22 to  San Carlos / 7th
URL:https://siliconvalleydsa.org/event/2026-01-28-ice-out-of-bay/
LOCATION:San José State University
CATEGORIES:External,SV DSA,WG - International Solidarity
END:VEVENT
BEGIN:VEVENT
DTSTART;TZID=America/Los_Angeles:20260128T183000
DTEND;TZID=America/Los_Angeles:20260128T200000
DTSTAMP:20260420T161155
CREATED:20251120T034453Z
LAST-MODIFIED:20260313T190511Z
UID:10002602-1769625000-1769630400@siliconvalleydsa.org
SUMMARY:International Solidarity WG Meeting
DESCRIPTION:Join our International Solidarity Working Group as we organize for a free Palestine\, protections for immigrants\, an end to US imperialism\, and a liberated international working class! \nPlease register for the Zoom meeting here: https://us06web.zoom.us/meeting/register/Pzfk-whGRre39zr8rv2Dew \nRead more about the International Solidarity Working Group at https://siliconvalleydsa.org/international-solidarity/.
URL:https://siliconvalleydsa.org/event/international-solidarity-wg-meeting-recurring-2/2026-01-28/
LOCATION:CA
CATEGORIES:SV DSA,WG - International Solidarity
END:VEVENT
BEGIN:VEVENT
DTSTART;TZID=America/Los_Angeles:20260131T140000
DTEND;TZID=America/Los_Angeles:20260131T160000
DTSTAMP:20260420T161155
CREATED:20260115T151546Z
LAST-MODIFIED:20260121T050449Z
UID:10002753-1769868000-1769875200@siliconvalleydsa.org
SUMMARY:Immigrant Rights Canvas
DESCRIPTION:Join the International Solidarity Working Group\, Community Safety\, and the Mutual Aid Working Group as we prepare for the Superbowl by asking business to hang the Rapid Response Network poster\, informing community members of their rights if approached by ICE\, and distributing whistle kits! \n\nRSVP Here! \n\nMeeting Location Details\nMission College\n3000 Mission College Blvd Parking Lot B\nSanta Clara\, CA 95054 \nParking \nThere is street parking and paid parking. \nPublic Transportation\n \nBus Stops: Lawrence and Oakmead (VTA Line 55)\, Duanne & Lawrence (VTA Line 55) \nTrain Stop: Old Iron Sides (VTA Light Rail) \nGuidelines \nMasks are optional for this event.
URL:https://siliconvalleydsa.org/event/2026-01-31-immigrant-rights-flyering/
LOCATION:Mission College\, 3000 Mission College Blvd Parking Lot B\, Santa Clara\, CA\, 95054\, United States
CATEGORIES:newbie-friendly,SV DSA,WG - Community Safety,WG - International Solidarity,WG - Mutual Aid
END:VEVENT
END:VCALENDAR