BEGIN:VCALENDAR
VERSION:2.0
PRODID:-//Silicon Valley DSA - ECPv6.15.20//NONSGML v1.0//EN
CALSCALE:GREGORIAN
METHOD:PUBLISH
X-ORIGINAL-URL:https://siliconvalleydsa.org
X-WR-CALDESC:Events for Silicon Valley DSA
REFRESH-INTERVAL;VALUE=DURATION:PT1H
X-Robots-Tag:noindex
X-PUBLISHED-TTL:PT1H
BEGIN:VTIMEZONE
TZID:America/Los_Angeles
BEGIN:DAYLIGHT
TZOFFSETFROM:-0800
TZOFFSETTO:-0700
TZNAME:PDT
DTSTART:20240310T100000
END:DAYLIGHT
BEGIN:STANDARD
TZOFFSETFROM:-0700
TZOFFSETTO:-0800
TZNAME:PST
DTSTART:20241103T090000
END:STANDARD
BEGIN:DAYLIGHT
TZOFFSETFROM:-0800
TZOFFSETTO:-0700
TZNAME:PDT
DTSTART:20250309T100000
END:DAYLIGHT
BEGIN:STANDARD
TZOFFSETFROM:-0700
TZOFFSETTO:-0800
TZNAME:PST
DTSTART:20251102T090000
END:STANDARD
BEGIN:DAYLIGHT
TZOFFSETFROM:-0800
TZOFFSETTO:-0700
TZNAME:PDT
DTSTART:20260308T100000
END:DAYLIGHT
BEGIN:STANDARD
TZOFFSETFROM:-0700
TZOFFSETTO:-0800
TZNAME:PST
DTSTART:20261101T090000
END:STANDARD
END:VTIMEZONE
BEGIN:VEVENT
DTSTART;TZID=America/Los_Angeles:20251109T150000
DTEND;TZID=America/Los_Angeles:20251109T170000
DTSTAMP:20260420T192013
CREATED:20251030T041856Z
LAST-MODIFIED:20251030T043236Z
UID:10002561-1762700400-1762707600@siliconvalleydsa.org
SUMMARY:Immigrant Rights Flyering
DESCRIPTION:Join the International Solidarity Working Group and the Mutual Aid Working Group to ask business to hang the Rapid Response Network poster and inform community members of their rights if approached by ICE. \nMeeting Location Details\nCaltrain Mountain View Station\n600 W Evelyn Ave\nMountain View\, CA 94041 \nParking \nThere is street parking and paid parking. \nPublic Transportation\n \nBus Stops: Mountain View Transit Center (Line 21\, 40\, and 51) \nTrain Stop: Mountain View Caltrain Stations \nGuidelines \nMasks are optional for this event.
URL:https://siliconvalleydsa.org/event/2025-11-09-immigrantrights/
LOCATION:Mountain View Caltrain Station\, 600 W Evelyn Ave\, Mountain View\, CA\, 94041\, United States
CATEGORIES:newbie-friendly,SV DSA,WG - International Solidarity,WG - Mutual Aid
ORGANIZER;CN="Silicon Valley DSA":MAILTO:info@siliconvalleydsa.org
END:VEVENT
END:VCALENDAR