BEGIN:VCALENDAR
VERSION:2.0
PRODID:-//Silicon Valley DSA - ECPv6.15.20//NONSGML v1.0//EN
CALSCALE:GREGORIAN
METHOD:PUBLISH
X-ORIGINAL-URL:https://siliconvalleydsa.org
X-WR-CALDESC:Events for Silicon Valley DSA
REFRESH-INTERVAL;VALUE=DURATION:PT1H
X-Robots-Tag:noindex
X-PUBLISHED-TTL:PT1H
BEGIN:VTIMEZONE
TZID:America/Los_Angeles
BEGIN:DAYLIGHT
TZOFFSETFROM:-0800
TZOFFSETTO:-0700
TZNAME:PDT
DTSTART:20240310T100000
END:DAYLIGHT
BEGIN:STANDARD
TZOFFSETFROM:-0700
TZOFFSETTO:-0800
TZNAME:PST
DTSTART:20241103T090000
END:STANDARD
BEGIN:DAYLIGHT
TZOFFSETFROM:-0800
TZOFFSETTO:-0700
TZNAME:PDT
DTSTART:20250309T100000
END:DAYLIGHT
BEGIN:STANDARD
TZOFFSETFROM:-0700
TZOFFSETTO:-0800
TZNAME:PST
DTSTART:20251102T090000
END:STANDARD
BEGIN:DAYLIGHT
TZOFFSETFROM:-0800
TZOFFSETTO:-0700
TZNAME:PDT
DTSTART:20260308T100000
END:DAYLIGHT
BEGIN:STANDARD
TZOFFSETFROM:-0700
TZOFFSETTO:-0800
TZNAME:PST
DTSTART:20261101T090000
END:STANDARD
END:VTIMEZONE
BEGIN:VEVENT
DTSTART;TZID=America/Los_Angeles:20251105T183000
DTEND;TZID=America/Los_Angeles:20251105T200000
DTSTAMP:20260420T185516
CREATED:20250806T030403Z
LAST-MODIFIED:20250806T030404Z
UID:10001516-1762367400-1762372800@siliconvalleydsa.org
SUMMARY:International Solidarity WG Meeting
DESCRIPTION:Join our International Solidarity Working Group as we organize for a free Palestine\, protections for immigrants\, an end to US imperialism\, and a liberated international working class! \nPlease register for the Zoom meeting here: https://us06web.zoom.us/meeting/register/Pzfk-whGRre39zr8rv2Dew \nRead more about the International Solidarity Working Group at https://siliconvalleydsa.org/international-solidarity/.
URL:https://siliconvalleydsa.org/event/international-solidarity-wg-meeting-2-2/2025-11-05/
LOCATION:CA
CATEGORIES:SV DSA,WG - International Solidarity
END:VEVENT
BEGIN:VEVENT
DTSTART;TZID=America/Los_Angeles:20251109T150000
DTEND;TZID=America/Los_Angeles:20251109T170000
DTSTAMP:20260420T185516
CREATED:20251030T041856Z
LAST-MODIFIED:20251030T043236Z
UID:10002561-1762700400-1762707600@siliconvalleydsa.org
SUMMARY:Immigrant Rights Flyering
DESCRIPTION:Join the International Solidarity Working Group and the Mutual Aid Working Group to ask business to hang the Rapid Response Network poster and inform community members of their rights if approached by ICE. \nMeeting Location Details\nCaltrain Mountain View Station\n600 W Evelyn Ave\nMountain View\, CA 94041 \nParking \nThere is street parking and paid parking. \nPublic Transportation\n \nBus Stops: Mountain View Transit Center (Line 21\, 40\, and 51) \nTrain Stop: Mountain View Caltrain Stations \nGuidelines \nMasks are optional for this event.
URL:https://siliconvalleydsa.org/event/2025-11-09-immigrantrights/
LOCATION:Mountain View Caltrain Station\, 600 W Evelyn Ave\, Mountain View\, CA\, 94041\, United States
CATEGORIES:newbie-friendly,SV DSA,WG - International Solidarity,WG - Mutual Aid
ORGANIZER;CN="Silicon Valley DSA":MAILTO:info@siliconvalleydsa.org
END:VEVENT
BEGIN:VEVENT
DTSTART;TZID=America/Los_Angeles:20251119T183000
DTEND;TZID=America/Los_Angeles:20251119T200000
DTSTAMP:20260420T185516
CREATED:20251106T035337Z
LAST-MODIFIED:20251106T035337Z
UID:10001517-1763577000-1763582400@siliconvalleydsa.org
SUMMARY:International Solidarity WG Meeting
DESCRIPTION:Join our International Solidarity Working Group as we organize for a free Palestine\, protections for immigrants\, an end to US imperialism\, and a liberated international working class! \nPlease register for the Zoom meeting here: https://us06web.zoom.us/meeting/register/Pzfk-whGRre39zr8rv2Dew \nRead more about the International Solidarity Working Group at https://siliconvalleydsa.org/international-solidarity/.
URL:https://siliconvalleydsa.org/event/international-solidarity-wg-meeting-2-2-2/
LOCATION:CA
CATEGORIES:SV DSA,WG - International Solidarity
END:VEVENT
BEGIN:VEVENT
DTSTART;TZID=America/Los_Angeles:20251122T130000
DTEND;TZID=America/Los_Angeles:20251122T150000
DTSTAMP:20260420T185516
CREATED:20251115T204420Z
LAST-MODIFIED:20251115T204420Z
UID:10002587-1763816400-1763823600@siliconvalleydsa.org
SUMMARY:Immigrant Rights Canvas
DESCRIPTION:Join the International Solidarity Working Group and the Mutual Aid Working Group to ask business to hang the Rapid Response Network poster and inform community members of their rights if approached by ICE. \nMeeting Location Details\nSan José Peace & Justice Center Parking Lot\n48 S. 7th Street\nSan Jose CA 95112 \nParking \nThere is street parking and parking garages close by on 4th street. Do not park at the Grocery Outlet they will tow your car. \nPublic Transportation\n \nBus: 7th & Santa Clara (Rapid 523\, 64)\, San Carlos / 7th (22\, 23\, 66)\, San Fernando & 7th (72\,73) \nLight Rail: Santa Clara Station – Blue and Green Line \nTrain: San Jose Diridon Station – take Rapid 500 to Santa Clara / 6th or 22 to San Carlos / 7th \nGuidelines \nMasks are optional for this event.
URL:https://siliconvalleydsa.org/event/2025-11-22-immigrant-rights-canvas/
LOCATION:San José Peace and Justice Center\, San Jose Peace and Justice Center\, 48 S 7th St\, San Jose\, CA\, 95112\, United States
CATEGORIES:newbie-friendly,SV DSA,WG - International Solidarity,WG - Mutual Aid
ORGANIZER;CN="Silicon Valley DSA":MAILTO:info@siliconvalleydsa.org
END:VEVENT
END:VCALENDAR