BEGIN:VCALENDAR
VERSION:2.0
PRODID:-//Silicon Valley DSA - ECPv6.15.20//NONSGML v1.0//EN
CALSCALE:GREGORIAN
METHOD:PUBLISH
X-ORIGINAL-URL:https://siliconvalleydsa.org
X-WR-CALDESC:Events for Silicon Valley DSA
REFRESH-INTERVAL;VALUE=DURATION:PT1H
X-Robots-Tag:noindex
X-PUBLISHED-TTL:PT1H
BEGIN:VTIMEZONE
TZID:America/Los_Angeles
BEGIN:DAYLIGHT
TZOFFSETFROM:-0800
TZOFFSETTO:-0700
TZNAME:PDT
DTSTART:20240310T100000
END:DAYLIGHT
BEGIN:STANDARD
TZOFFSETFROM:-0700
TZOFFSETTO:-0800
TZNAME:PST
DTSTART:20241103T090000
END:STANDARD
BEGIN:DAYLIGHT
TZOFFSETFROM:-0800
TZOFFSETTO:-0700
TZNAME:PDT
DTSTART:20250309T100000
END:DAYLIGHT
BEGIN:STANDARD
TZOFFSETFROM:-0700
TZOFFSETTO:-0800
TZNAME:PST
DTSTART:20251102T090000
END:STANDARD
BEGIN:DAYLIGHT
TZOFFSETFROM:-0800
TZOFFSETTO:-0700
TZNAME:PDT
DTSTART:20260308T100000
END:DAYLIGHT
BEGIN:STANDARD
TZOFFSETFROM:-0700
TZOFFSETTO:-0800
TZNAME:PST
DTSTART:20261101T090000
END:STANDARD
END:VTIMEZONE
BEGIN:VEVENT
DTSTART;TZID=America/Los_Angeles:20251006T083000
DTEND;TZID=America/Los_Angeles:20251006T103000
DTSTAMP:20260420T221327
CREATED:20251004T003145Z
LAST-MODIFIED:20251004T003145Z
UID:10002336-1759739400-1759746600@siliconvalleydsa.org
SUMMARY:Pack the Court for the Stanford 11!
DESCRIPTION:  \n\n\n[URGENT ACTION] ‼️PACK THE COURT‼️ for the Stanford 11 – this Monday\, Oct 6th @ 8:15am\, join us at San Jose Hall of Justice\, Department 24 -to support student protestors’ rights to free speech! – Court begins at 8:30AM. \nIn a highly unusual and backhanded move\, Santa Clara County’s DA Rosen & DDA Baker secured a grand jury indictment for 11 defendants in the case against the Stanford 12. The Indictment has side-stepped the preliminary hearing phase\, taking court proceedings out of the public sphere as part of a broader authoritarian effort to criminalize protest and free speech. Grand juries are secretive and repressive processes held without the knowledge of defendants or their lawyers\, entirely presided over by the District Attorney. Meanwhile Stanford continues to bow to the Trump administration in a new era of fascist political repression\, and continues to be complicit in Israel’s crimes of genocide and apartheid. \nAs the Stanford 11 remain firm in their continued opposition to the ongoing genocide and catastrophic famine in Gaza\, we the student and broader community\, re-affirm our support for students and the civil right to free speech and protest. PACK THE COURT for the Stanford 11!  Show the DA that the community is watching\, and that he cannot take this case out of the public eye! \nSTANFORD DIVEST! WE WILL NOT STOP WE WILL NOT REST! UNTIL PALESTINE IS FREE! UNTIL PALESTINE IS FREE! 🔻 \nSign the petition to support & for further case updates: bit.ly/stanford11Petition \nThe 11 defendants will be re-arraigned on docket #C251537\n🗓️Monday 10/6 @ 8:30am\n📍 Dept. 24 of the San Jose Hall of Justice. 190-200 W Hedding St\, San Jose\, CA 95110
URL:https://siliconvalleydsa.org/event/2025-10-06-packthecourt/
LOCATION:San Jose Hall of Justice\, 190 W Hedding St\, San Jose\, CA\, 95110\, United States
CATEGORIES:External,SV DSA,WG - International Solidarity
END:VEVENT
BEGIN:VEVENT
DTSTART;TZID=America/Los_Angeles:20251006T180000
DTEND;TZID=America/Los_Angeles:20251006T200000
DTSTAMP:20260420T221327
CREATED:20251004T003540Z
LAST-MODIFIED:20251004T003608Z
UID:10002337-1759773600-1759780800@siliconvalleydsa.org
SUMMARY:Universal Legal Representation For All!
DESCRIPTION:📢 CALL TO ACTION / LLAMADO A LA ACCIÓN 📢 \nStand with our immigrant community in faith and solidarity.\nLet’s fight for UNIVERSAL LEGAL REPRESENTATION for All!\n📅 October 6\, 2025 – 6:00 PM\n⛪ Our Lady of Guadalupe Church – 2020 San Antonio\n🕊️ Mass at 5:30 PM \nApoya a nuestra comunidad inmigrante con fe y solidaridad.\n¡Luchemos por la REPRESENTACIÓN LEGAL PARA TODOS!\n📅 6 de octubre de 2025 – 6:00 PM\n⛪ Iglesia de Nuestra Sra. de Guadalupe – 2020 San Antonio\n🕊️ Misa a las 5:30 PM
URL:https://siliconvalleydsa.org/event/universal-legal-representation-for-all/
LOCATION:Our Lady of Guadalupe Church\, 2020 E San Antonio St\, San Jose\, CA\, 95116\, United States
CATEGORIES:External,SV DSA,WG - International Solidarity
ORGANIZER;CN="People Acting in Community Together":MAILTO:pactsj@pactsj.org
END:VEVENT
BEGIN:VEVENT
DTSTART;TZID=America/Los_Angeles:20251015T183000
DTEND;TZID=America/Los_Angeles:20251015T200000
DTSTAMP:20260420T221327
CREATED:20250806T030403Z
LAST-MODIFIED:20250806T030404Z
UID:10001515-1760553000-1760558400@siliconvalleydsa.org
SUMMARY:International Solidarity WG Meeting
DESCRIPTION:Join our International Solidarity Working Group as we organize for a free Palestine\, protections for immigrants\, an end to US imperialism\, and a liberated international working class! \nPlease register for the Zoom meeting here: https://us06web.zoom.us/meeting/register/Pzfk-whGRre39zr8rv2Dew \nRead more about the International Solidarity Working Group at https://siliconvalleydsa.org/international-solidarity/.
URL:https://siliconvalleydsa.org/event/international-solidarity-wg-meeting-2-2/2025-10-15/
LOCATION:CA
CATEGORIES:SV DSA,WG - International Solidarity
END:VEVENT
BEGIN:VEVENT
DTSTART;TZID=America/Los_Angeles:20251026T140000
DTEND;TZID=America/Los_Angeles:20251026T160000
DTSTAMP:20260420T221327
CREATED:20251022T012350Z
LAST-MODIFIED:20260414T134913Z
UID:10002543-1761487200-1761494400@siliconvalleydsa.org
SUMMARY:San Jose No Appetite for Apartheid Canvass
DESCRIPTION:Come join the International Solidarity Working Group and participate in a No Appetite for Apartheid canvass in San Jose! We’ll be meeting in front of San Jose City Hall. \nNo Appetite for Apartheid is a national campaign that follows the principles of the Boycott\, Divestment\, Sanctions (BDS) movement to reduce US support for Israeli apartheid and genocide against Palestinians. The campaign urges local small businesses to stop carrying Israeli food products and educates community members about supporting Palestine by boycotting Israeli products\, a time-tested consumer tactic used against states perpetrating injustice. During our canvass\, we’ll be visiting businesses in San Jose and asking them to drop Israeli food products as well as to put up a flyer showing the community their support for Palestinians. \nIf you’re interested in attending this event and want to know more details\, join our Google Group here to get in contact with the organizers! Click “Ask to join group” if you have a Gmail account\, or “Contact owners and managers” if you do not. You can also reach out to #wg-international-solidarity on our Slack.
URL:https://siliconvalleydsa.org/event/san-jose-no-appetite-for-apartheid-canvass/
LOCATION:CA
CATEGORIES:SV DSA,WG - International Solidarity
END:VEVENT
END:VCALENDAR