BEGIN:VCALENDAR
VERSION:2.0
PRODID:-//Silicon Valley DSA - ECPv6.15.20//NONSGML v1.0//EN
CALSCALE:GREGORIAN
METHOD:PUBLISH
X-WR-CALNAME:Silicon Valley DSA
X-ORIGINAL-URL:https://siliconvalleydsa.org
X-WR-CALDESC:Events for Silicon Valley DSA
REFRESH-INTERVAL;VALUE=DURATION:PT1H
X-Robots-Tag:noindex
X-PUBLISHED-TTL:PT1H
BEGIN:VTIMEZONE
TZID:America/Los_Angeles
BEGIN:DAYLIGHT
TZOFFSETFROM:-0800
TZOFFSETTO:-0700
TZNAME:PDT
DTSTART:20240310T100000
END:DAYLIGHT
BEGIN:STANDARD
TZOFFSETFROM:-0700
TZOFFSETTO:-0800
TZNAME:PST
DTSTART:20241103T090000
END:STANDARD
BEGIN:DAYLIGHT
TZOFFSETFROM:-0800
TZOFFSETTO:-0700
TZNAME:PDT
DTSTART:20250309T100000
END:DAYLIGHT
BEGIN:STANDARD
TZOFFSETFROM:-0700
TZOFFSETTO:-0800
TZNAME:PST
DTSTART:20251102T090000
END:STANDARD
BEGIN:DAYLIGHT
TZOFFSETFROM:-0800
TZOFFSETTO:-0700
TZNAME:PDT
DTSTART:20260308T100000
END:DAYLIGHT
BEGIN:STANDARD
TZOFFSETFROM:-0700
TZOFFSETTO:-0800
TZNAME:PST
DTSTART:20261101T090000
END:STANDARD
END:VTIMEZONE
BEGIN:VEVENT
DTSTART;TZID=America/Los_Angeles:20250903T183000
DTEND;TZID=America/Los_Angeles:20250903T200000
DTSTAMP:20260421T031302
CREATED:20250806T030403Z
LAST-MODIFIED:20250806T030404Z
UID:10001513-1756924200-1756929600@siliconvalleydsa.org
SUMMARY:International Solidarity WG Meeting
DESCRIPTION:Join our International Solidarity Working Group as we organize for a free Palestine\, protections for immigrants\, an end to US imperialism\, and a liberated international working class! \nPlease register for the Zoom meeting here: https://us06web.zoom.us/meeting/register/Pzfk-whGRre39zr8rv2Dew \nRead more about the International Solidarity Working Group at https://siliconvalleydsa.org/international-solidarity/.
URL:https://siliconvalleydsa.org/event/international-solidarity-wg-meeting-2-2/2025-09-03/
LOCATION:CA
CATEGORIES:SV DSA,WG - International Solidarity
END:VEVENT
BEGIN:VEVENT
DTSTART;TZID=America/Los_Angeles:20250918T173000
DTEND;TZID=America/Los_Angeles:20250918T190000
DTSTAMP:20260421T031302
CREATED:20250910T021541Z
LAST-MODIFIED:20250911T040447Z
UID:10002215-1758216600-1758222000@siliconvalleydsa.org
SUMMARY:Immigrant Rights Flyering
DESCRIPTION:Join the International Solidarity Working Group and the Mutual Aid Working Group to ask business to hang the Rapid Response Network poster and inform community members of their rights if approached by ICE. \nMeeting Location Details\nSunnyvale Caltrain Station\n121 W Evelyn Ave\nSunnyvale CA 94086 \nParking \nThere is street parking and paid parking in the Caltrain station. \nPublic Transportation\n \nBus Stops: Evelyn & Frances (VTA Line 21)\, Sunnyvale & Evelyn (VTA Line 55) \nTrain Stop: Sunnyvale Caltrain Station (Caltrain) \nGuidelines \nMasks are optional for this event.
URL:https://siliconvalleydsa.org/event/2025-09-18-immigrantrightsflyering/
LOCATION:Sunnyvale Caltrain Station\, 121 W Evelyn Ave\, Sunnyvale\, CA\, 94086\, United States
CATEGORIES:newbie-friendly,SV DSA,WG - International Solidarity,WG - Mutual Aid
END:VEVENT
BEGIN:VEVENT
DTSTART;TZID=America/Los_Angeles:20250924T183000
DTEND;TZID=America/Los_Angeles:20250924T200000
DTSTAMP:20260421T031302
CREATED:20250806T030403Z
LAST-MODIFIED:20250806T030404Z
UID:10001514-1758738600-1758744000@siliconvalleydsa.org
SUMMARY:International Solidarity WG Meeting
DESCRIPTION:Join our International Solidarity Working Group as we organize for a free Palestine\, protections for immigrants\, an end to US imperialism\, and a liberated international working class! \nPlease register for the Zoom meeting here: https://us06web.zoom.us/meeting/register/Pzfk-whGRre39zr8rv2Dew \nRead more about the International Solidarity Working Group at https://siliconvalleydsa.org/international-solidarity/.
URL:https://siliconvalleydsa.org/event/international-solidarity-wg-meeting-2-2/2025-09-24/
LOCATION:CA
CATEGORIES:SV DSA,WG - International Solidarity
END:VEVENT
END:VCALENDAR