BEGIN:VCALENDAR
VERSION:2.0
PRODID:-//Silicon Valley DSA - ECPv6.15.20//NONSGML v1.0//EN
CALSCALE:GREGORIAN
METHOD:PUBLISH
X-ORIGINAL-URL:https://siliconvalleydsa.org
X-WR-CALDESC:Events for Silicon Valley DSA
REFRESH-INTERVAL;VALUE=DURATION:PT1H
X-Robots-Tag:noindex
X-PUBLISHED-TTL:PT1H
BEGIN:VTIMEZONE
TZID:America/Los_Angeles
BEGIN:DAYLIGHT
TZOFFSETFROM:-0800
TZOFFSETTO:-0700
TZNAME:PDT
DTSTART:20250309T100000
END:DAYLIGHT
BEGIN:STANDARD
TZOFFSETFROM:-0700
TZOFFSETTO:-0800
TZNAME:PST
DTSTART:20251102T090000
END:STANDARD
BEGIN:DAYLIGHT
TZOFFSETFROM:-0800
TZOFFSETTO:-0700
TZNAME:PDT
DTSTART:20260308T100000
END:DAYLIGHT
BEGIN:STANDARD
TZOFFSETFROM:-0700
TZOFFSETTO:-0800
TZNAME:PST
DTSTART:20261101T090000
END:STANDARD
BEGIN:DAYLIGHT
TZOFFSETFROM:-0800
TZOFFSETTO:-0700
TZNAME:PDT
DTSTART:20270314T100000
END:DAYLIGHT
BEGIN:STANDARD
TZOFFSETFROM:-0700
TZOFFSETTO:-0800
TZNAME:PST
DTSTART:20271107T090000
END:STANDARD
END:VTIMEZONE
BEGIN:VEVENT
DTSTART;TZID=America/Los_Angeles:20260225T190000
DTEND;TZID=America/Los_Angeles:20260225T203000
DTSTAMP:20260421T130118
CREATED:20251009T030547Z
LAST-MODIFIED:20260414T134523Z
UID:10004894-1772046000-1772051400@siliconvalleydsa.org
SUMMARY:Socialist Night School
DESCRIPTION:This is the public facing education event hosted on the 4th Wednesday of each month by the political education working group. Topics will be announced monthly and resources will be published online as well as through our newsletter. These meetings are a great way to learn the why behind the work we do. \nThis event will take place both: \n\nIn person at SEIU 521 (2302 Zanker Rd\, San Jose\, CA 95131)\nOn Zoom. Register for the Zoom at https://us02web.zoom.us/meeting/register/Z6s_K7jPQC62v1yrl4G7Gw#/registration
URL:https://siliconvalleydsa.org/event/political-education-working-group-educational-event-recurring-3/2026-02-25/
LOCATION:SEIU Local 521 Union Hall\, 2302 Zanker Rd\, San Jose\, CA\, 95131
CATEGORIES:SV DSA,WG - Political Education
ORGANIZER;CN="Silicon Valley DSA":MAILTO:info@siliconvalleydsa.org
END:VEVENT
BEGIN:VEVENT
DTSTART;TZID=America/Los_Angeles:20260225T190000
DTEND;TZID=America/Los_Angeles:20260225T203000
DTSTAMP:20260421T130118
CREATED:20260221T190609Z
LAST-MODIFIED:20260414T134404Z
UID:10002349-1772046000-1772051400@siliconvalleydsa.org
SUMMARY:Socialist Night School: Socialism 101 🌹
DESCRIPTION:For this month’s session\, we’re kicking off with Socialism 101: The history of Socialism\, its growth\, and developing concepts. We’ll walk through key terms and ideas\, trace the evolution of socialist thought\, and take a look at where socialism stands today. Whether you’re new to these ideas or looking to sharpen your understanding\, this is a space to learn together. \nIn-person and Zoom options available. 🌹 \nTopics will be announced monthly\, and resources will be shared online and through our newsletter. These night school sessions are a great way to go deeper on the ideas behind the work we do—and to connect with other members asking the same questions. \nWednesday\, February 25\, 2026\n7:00pm – 8:30pm \nThis event will take place in both: \n\nIn person at SEIU 521 (2302 Zanker Rd\, San Jose\, CA 95131)\nOn Zoom. Register for the Zoom at https://us02web.zoom.us/meeting/register/Z6s_K7jPQC62v1yrl4G7Gw#/registration\n\nUpcoming Event \nWant to get more involved with SVDSA? Join us on Thursday\, February 26th to learn more about Silicon Valley DSA’s current projects. \nThursday\, February 26\, 2026\n6:30pm – 8:00pm \nSEIU 521 Union Hall\n2302 Zanker Rd\nSan Jose\, CA \nThis is a hybrid event. \nhttps://siliconvalleydsa.org/event/dsa-101-2/
URL:https://siliconvalleydsa.org/event/political-education-working-group-educational-event-recurring-3-2/
LOCATION:SEIU Local 521 Union Hall\, 2302 Zanker Rd\, San Jose\, CA\, 95131
CATEGORIES:SV DSA,WG - Political Education
ORGANIZER;CN="Silicon Valley DSA":MAILTO:info@siliconvalleydsa.org
END:VEVENT
END:VCALENDAR