BEGIN:VCALENDAR
VERSION:2.0
PRODID:-//Silicon Valley DSA - ECPv6.15.20//NONSGML v1.0//EN
CALSCALE:GREGORIAN
METHOD:PUBLISH
X-ORIGINAL-URL:https://siliconvalleydsa.org
X-WR-CALDESC:Events for Silicon Valley DSA
REFRESH-INTERVAL;VALUE=DURATION:PT1H
X-Robots-Tag:noindex
X-PUBLISHED-TTL:PT1H
BEGIN:VTIMEZONE
TZID:America/Los_Angeles
BEGIN:DAYLIGHT
TZOFFSETFROM:-0800
TZOFFSETTO:-0700
TZNAME:PDT
DTSTART:20240310T100000
END:DAYLIGHT
BEGIN:STANDARD
TZOFFSETFROM:-0700
TZOFFSETTO:-0800
TZNAME:PST
DTSTART:20241103T090000
END:STANDARD
BEGIN:DAYLIGHT
TZOFFSETFROM:-0800
TZOFFSETTO:-0700
TZNAME:PDT
DTSTART:20250309T100000
END:DAYLIGHT
BEGIN:STANDARD
TZOFFSETFROM:-0700
TZOFFSETTO:-0800
TZNAME:PST
DTSTART:20251102T090000
END:STANDARD
BEGIN:DAYLIGHT
TZOFFSETFROM:-0800
TZOFFSETTO:-0700
TZNAME:PDT
DTSTART:20260308T100000
END:DAYLIGHT
BEGIN:STANDARD
TZOFFSETFROM:-0700
TZOFFSETTO:-0800
TZNAME:PST
DTSTART:20261101T090000
END:STANDARD
END:VTIMEZONE
BEGIN:VEVENT
DTSTART;TZID=America/Los_Angeles:20251217T193000
DTEND;TZID=America/Los_Angeles:20251217T203000
DTSTAMP:20260421T130224
CREATED:20251206T232424Z
LAST-MODIFIED:20251210T205547Z
UID:10002620-1765999800-1766003400@siliconvalleydsa.org
SUMMARY:Political Education Event: Vietnam War Discussion
DESCRIPTION:This month\, instead of a Socialist Night School\, we are going to do a “book club” type meet-up on zoom. But instead of a book\, just listen to this podcast episode\, and then we will gather to chit chat about it. \nThe topic is Socialism Around the World: Vietnam Edition. \nThe podcast episode is The Vietnam War run by RevLeft Radio. You can find it on their website\, spotify\, or apple music.The episode is 2 hours. If you have limited time\, here are some recommended snippets: \n\nFor a 55 min version: 10:44 – 1:05:22\nFor a 25 min version: 40:22 – 1:05:22\nFor a 0 min version: just come even if you don’t listen\, we’ll go over some of the content (very high-level) before discussing\n\nZoom: https://us02web.zoom.us/j/81524710609?pwd=MP3VbSBmYkFDTYCidPaGUG9SBHdKDr.1
URL:https://siliconvalleydsa.org/event/2025-12-17-pol-ed-vietnam/
LOCATION:
CATEGORIES:newbie-friendly,SV DSA,WG - Political Education
END:VEVENT
END:VCALENDAR