BEGIN:VCALENDAR
VERSION:2.0
PRODID:-//Silicon Valley DSA - ECPv6.15.20//NONSGML v1.0//EN
CALSCALE:GREGORIAN
METHOD:PUBLISH
X-ORIGINAL-URL:https://siliconvalleydsa.org
X-WR-CALDESC:Events for Silicon Valley DSA
REFRESH-INTERVAL;VALUE=DURATION:PT1H
X-Robots-Tag:noindex
X-PUBLISHED-TTL:PT1H
BEGIN:VTIMEZONE
TZID:America/Los_Angeles
BEGIN:DAYLIGHT
TZOFFSETFROM:-0800
TZOFFSETTO:-0700
TZNAME:PDT
DTSTART:20240310T100000
END:DAYLIGHT
BEGIN:STANDARD
TZOFFSETFROM:-0700
TZOFFSETTO:-0800
TZNAME:PST
DTSTART:20241103T090000
END:STANDARD
BEGIN:DAYLIGHT
TZOFFSETFROM:-0800
TZOFFSETTO:-0700
TZNAME:PDT
DTSTART:20250309T100000
END:DAYLIGHT
BEGIN:STANDARD
TZOFFSETFROM:-0700
TZOFFSETTO:-0800
TZNAME:PST
DTSTART:20251102T090000
END:STANDARD
BEGIN:DAYLIGHT
TZOFFSETFROM:-0800
TZOFFSETTO:-0700
TZNAME:PDT
DTSTART:20260308T100000
END:DAYLIGHT
BEGIN:STANDARD
TZOFFSETFROM:-0700
TZOFFSETTO:-0800
TZNAME:PST
DTSTART:20261101T090000
END:STANDARD
END:VTIMEZONE
BEGIN:VEVENT
DTSTART;TZID=America/Los_Angeles:20251022T190000
DTEND;TZID=America/Los_Angeles:20251022T203000
DTSTAMP:20260421T100031
CREATED:20251009T030035Z
LAST-MODIFIED:20260414T134930Z
UID:10002208-1761159600-1761165000@siliconvalleydsa.org
SUMMARY:Socialist Night School: Confronting Capitalism
DESCRIPTION:This is the public facing education event hosted on the 4th Wednesday of each month by the political education working group. Topics will be announced monthly and resources will be published online as well as through our newsletter. These meetings are a great way to learn the why behind the work we do. \nThis event will take place both: \n\nIn person at SEIU 521 (2302 Zanker Rd\, San Jose\, CA 95131)\nOn Zoom. Register for the Zoom at https://us02web.zoom.us/meeting/register/Z6s_K7jPQC62v1yrl4G7Gw#/registration
URL:https://siliconvalleydsa.org/event/political-education-working-group-educational-event-recurring-2/
LOCATION:SEIU Local 521 Union Hall\, 2302 Zanker Rd\, San Jose\, CA\, 95131
CATEGORIES:SV DSA,WG - Political Education
ORGANIZER;CN="Silicon Valley DSA":MAILTO:info@siliconvalleydsa.org
END:VEVENT
BEGIN:VEVENT
DTSTART;TZID=America/Los_Angeles:20251025T121500
DTEND;TZID=America/Los_Angeles:20251025T130000
DTSTAMP:20260421T100031
CREATED:20251014T064405Z
LAST-MODIFIED:20251014T064618Z
UID:10002410-1761394500-1761397200@siliconvalleydsa.org
SUMMARY:DSA 101
DESCRIPTION:At DSA\, we believe a better world is possible. But the only way it can happen is if we organize together as members of the working class to restructure society based on human needs. DSA is the largest socialist organization in the United States\, but we have to grow even larger to change our society. One barrier to growth is lack of knowledge about socialism in general and DSA as an organization specifically. \nWhat is socialism? How can we achieve it? What projects does Silicon Valley DSA work on? How is our chapter structured to do work? How can I get involved? We are running a DSA 101 event where we will answer these questions and any others that you bring. This event is open to the public\, and we encourage non-members to get involved and come with any questions. \nThe event will be held at SEIU 521 Union Hall on Saturday October 25 at 12:15-1 PM\, right before our monthly General Chapter Meeting. \nA hybrid Zoom option is available. Register at this link: https://us02web.zoom.us/meeting/register/Dkzcam-2SjerPLuBlEGQOQ
URL:https://siliconvalleydsa.org/event/dsa-101-october-2025/
LOCATION:SEIU Local 521 Union Hall\, 2302 Zanker Rd\, San Jose\, CA\, 95131
CATEGORIES:External,newbie-friendly,SV DSA,WG - Political Education
ORGANIZER;CN="Silicon Valley DSA":MAILTO:info@siliconvalleydsa.org
END:VEVENT
END:VCALENDAR