BEGIN:VCALENDAR
VERSION:2.0
PRODID:-//Silicon Valley DSA - ECPv6.15.20//NONSGML v1.0//EN
CALSCALE:GREGORIAN
METHOD:PUBLISH
X-WR-CALNAME:Silicon Valley DSA
X-ORIGINAL-URL:https://siliconvalleydsa.org
X-WR-CALDESC:Events for Silicon Valley DSA
REFRESH-INTERVAL;VALUE=DURATION:PT1H
X-Robots-Tag:noindex
X-PUBLISHED-TTL:PT1H
BEGIN:VTIMEZONE
TZID:America/Los_Angeles
BEGIN:DAYLIGHT
TZOFFSETFROM:-0800
TZOFFSETTO:-0700
TZNAME:PDT
DTSTART:20240310T100000
END:DAYLIGHT
BEGIN:STANDARD
TZOFFSETFROM:-0700
TZOFFSETTO:-0800
TZNAME:PST
DTSTART:20241103T090000
END:STANDARD
BEGIN:DAYLIGHT
TZOFFSETFROM:-0800
TZOFFSETTO:-0700
TZNAME:PDT
DTSTART:20250309T100000
END:DAYLIGHT
BEGIN:STANDARD
TZOFFSETFROM:-0700
TZOFFSETTO:-0800
TZNAME:PST
DTSTART:20251102T090000
END:STANDARD
BEGIN:DAYLIGHT
TZOFFSETFROM:-0800
TZOFFSETTO:-0700
TZNAME:PDT
DTSTART:20260308T100000
END:DAYLIGHT
BEGIN:STANDARD
TZOFFSETFROM:-0700
TZOFFSETTO:-0800
TZNAME:PST
DTSTART:20261101T090000
END:STANDARD
END:VTIMEZONE
BEGIN:VEVENT
DTSTART;TZID=America/Los_Angeles:20250611T193000
DTEND;TZID=America/Los_Angeles:20250611T203000
DTSTAMP:20260421T100908
CREATED:20250509T024934Z
LAST-MODIFIED:20250509T024934Z
UID:10000630-1749670200-1749673800@siliconvalleydsa.org
SUMMARY:Political Education Working Group Meeting
DESCRIPTION:The Political Education Working group meets twice a month\, once for an internal planning meeting and once for an external education event. Come join us on Wednesday June 11 at 7 :30 for an internal planning meeting. We will choose working group co-chairs and create materials for our external meeting for June\, DSA 101. \nWe will meet on Zoom\, registration link here: https://us02web.zoom.us/meeting/register/SR5UW0vaSsSA1hOt2h5o-w
URL:https://siliconvalleydsa.org/event/political-education-working-group-meeting/
LOCATION:Zoom
CATEGORIES:newbie-friendly,SV DSA,WG - Political Education
END:VEVENT
END:VCALENDAR