BEGIN:VCALENDAR
VERSION:2.0
PRODID:-//Silicon Valley DSA - ECPv6.15.20//NONSGML v1.0//EN
CALSCALE:GREGORIAN
METHOD:PUBLISH
X-ORIGINAL-URL:https://siliconvalleydsa.org
X-WR-CALDESC:Events for Silicon Valley DSA
REFRESH-INTERVAL;VALUE=DURATION:PT1H
X-Robots-Tag:noindex
X-PUBLISHED-TTL:PT1H
BEGIN:VTIMEZONE
TZID:America/Los_Angeles
BEGIN:DAYLIGHT
TZOFFSETFROM:-0800
TZOFFSETTO:-0700
TZNAME:PDT
DTSTART:20250309T100000
END:DAYLIGHT
BEGIN:STANDARD
TZOFFSETFROM:-0700
TZOFFSETTO:-0800
TZNAME:PST
DTSTART:20251102T090000
END:STANDARD
BEGIN:DAYLIGHT
TZOFFSETFROM:-0800
TZOFFSETTO:-0700
TZNAME:PDT
DTSTART:20260308T100000
END:DAYLIGHT
BEGIN:STANDARD
TZOFFSETFROM:-0700
TZOFFSETTO:-0800
TZNAME:PST
DTSTART:20261101T090000
END:STANDARD
BEGIN:DAYLIGHT
TZOFFSETFROM:-0800
TZOFFSETTO:-0700
TZNAME:PDT
DTSTART:20270314T100000
END:DAYLIGHT
BEGIN:STANDARD
TZOFFSETFROM:-0700
TZOFFSETTO:-0800
TZNAME:PST
DTSTART:20271107T090000
END:STANDARD
END:VTIMEZONE
BEGIN:VEVENT
DTSTART;TZID=America/Los_Angeles:20260418T120000
DTEND;TZID=America/Los_Angeles:20260418T180000
DTSTAMP:20260419T210807
CREATED:20260228T214842Z
LAST-MODIFIED:20260321T043253Z
UID:10004014-1776513600-1776535200@siliconvalleydsa.org
SUMMARY:2026 Chapter Convention
DESCRIPTION:Join Silicon Valley DSA’s biggest event of the year! At our annual chapter convention\, we recharter working groups for the year\, elect our chapter leadership\, hear from local socialist organizers\, and get energized for another year of building socialism in Silicon Valley! This year\, we’re also going to use our chapter convention to develop our Strategic Plan for the year! \nThis event is an opportunity to meet your neighbors\, participate in key chapter business\, and get ready for another fantastic year at SVDSA! Food provided. \nRSVP here! \nThis meeting will be held in person\, with the option to participate virtually via Zoom. \nRegister for the Zoom: https://us02web.zoom.us/meeting/register/FPPvL3OcRvaSZeasfHbz_Q
URL:https://siliconvalleydsa.org/event/2026-chapter-convention/
LOCATION:SEIU Local 521 Union Hall\, 2302 Zanker Rd\, San Jose\, CA\, 95131
CATEGORIES:General Meeting,SV DSA
END:VEVENT
END:VCALENDAR