BEGIN:VCALENDAR
VERSION:2.0
PRODID:-//Silicon Valley DSA - ECPv6.15.20//NONSGML v1.0//EN
CALSCALE:GREGORIAN
METHOD:PUBLISH
X-ORIGINAL-URL:https://siliconvalleydsa.org
X-WR-CALDESC:Events for Silicon Valley DSA
REFRESH-INTERVAL;VALUE=DURATION:PT1H
X-Robots-Tag:noindex
X-PUBLISHED-TTL:PT1H
BEGIN:VTIMEZONE
TZID:America/Los_Angeles
BEGIN:DAYLIGHT
TZOFFSETFROM:-0800
TZOFFSETTO:-0700
TZNAME:PDT
DTSTART:20250309T100000
END:DAYLIGHT
BEGIN:STANDARD
TZOFFSETFROM:-0700
TZOFFSETTO:-0800
TZNAME:PST
DTSTART:20251102T090000
END:STANDARD
BEGIN:DAYLIGHT
TZOFFSETFROM:-0800
TZOFFSETTO:-0700
TZNAME:PDT
DTSTART:20260308T100000
END:DAYLIGHT
BEGIN:STANDARD
TZOFFSETFROM:-0700
TZOFFSETTO:-0800
TZNAME:PST
DTSTART:20261101T090000
END:STANDARD
BEGIN:DAYLIGHT
TZOFFSETFROM:-0800
TZOFFSETTO:-0700
TZNAME:PDT
DTSTART:20270314T100000
END:DAYLIGHT
BEGIN:STANDARD
TZOFFSETFROM:-0700
TZOFFSETTO:-0800
TZNAME:PST
DTSTART:20271107T090000
END:STANDARD
END:VTIMEZONE
BEGIN:VEVENT
DTSTART;TZID=America/Los_Angeles:20260321T130000
DTEND;TZID=America/Los_Angeles:20260321T153000
DTSTAMP:20260419T193231
CREATED:20260304T051532Z
LAST-MODIFIED:20260304T082002Z
UID:10004018-1774098000-1774107000@siliconvalleydsa.org
SUMMARY:March Chapter Meeting
DESCRIPTION:Join Silicon Valley DSA for our March General Meeting! This meeting will feature updates from our working groups and ongoing projects\, as well as a space to connect with comrades and discuss our current and future work as a Chapter. \nWe welcome everyone to our meetings\, whether you’ve been involved for a long time or are curious to learn more. To take part in Chapter decisions as a voting member\, please sign up with National DSA at https://dsausa.org/join. \nThis meeting will be held in person\, with the option to participate virtually via Zoom. \nRegister for the Zoom: https://us02web.zoom.us/meeting/register/WufbBRuTQCawq-OrBpQccw \nRSVP Here: https://actionnetwork.org/events/2026-03-21-chapter-meeting \n2302 Zanker Rd\nSan Jose\, CA 95131\nSaturday\, March 21st\n1–3:30 PM
URL:https://siliconvalleydsa.org/event/2026-03-21-chapter-meeting/
LOCATION:SEIU Local 521 Union Hall\, 2302 Zanker Rd\, San Jose\, CA\, 95131
CATEGORIES:General Meeting,newbie-friendly,SV DSA
ORGANIZER;CN="Silicon Valley DSA":MAILTO:info@siliconvalleydsa.org
END:VEVENT
END:VCALENDAR