BEGIN:VCALENDAR
VERSION:2.0
PRODID:-//Silicon Valley DSA - ECPv6.15.20//NONSGML v1.0//EN
CALSCALE:GREGORIAN
METHOD:PUBLISH
X-WR-CALNAME:Silicon Valley DSA
X-ORIGINAL-URL:https://siliconvalleydsa.org
X-WR-CALDESC:Events for Silicon Valley DSA
REFRESH-INTERVAL;VALUE=DURATION:PT1H
X-Robots-Tag:noindex
X-PUBLISHED-TTL:PT1H
BEGIN:VTIMEZONE
TZID:America/Los_Angeles
BEGIN:DAYLIGHT
TZOFFSETFROM:-0800
TZOFFSETTO:-0700
TZNAME:PDT
DTSTART:20240310T100000
END:DAYLIGHT
BEGIN:STANDARD
TZOFFSETFROM:-0700
TZOFFSETTO:-0800
TZNAME:PST
DTSTART:20241103T090000
END:STANDARD
BEGIN:DAYLIGHT
TZOFFSETFROM:-0800
TZOFFSETTO:-0700
TZNAME:PDT
DTSTART:20250309T100000
END:DAYLIGHT
BEGIN:STANDARD
TZOFFSETFROM:-0700
TZOFFSETTO:-0800
TZNAME:PST
DTSTART:20251102T090000
END:STANDARD
BEGIN:DAYLIGHT
TZOFFSETFROM:-0800
TZOFFSETTO:-0700
TZNAME:PDT
DTSTART:20260308T100000
END:DAYLIGHT
BEGIN:STANDARD
TZOFFSETFROM:-0700
TZOFFSETTO:-0800
TZNAME:PST
DTSTART:20261101T090000
END:STANDARD
END:VTIMEZONE
BEGIN:VEVENT
DTSTART;TZID=America/Los_Angeles:20251025T130000
DTEND;TZID=America/Los_Angeles:20251025T160000
DTSTAMP:20260420T144950
CREATED:20251001T053746Z
LAST-MODIFIED:20251010T045649Z
UID:10002322-1761397200-1761408000@siliconvalleydsa.org
SUMMARY:October Chapter Meeting
DESCRIPTION:Join Silicon Valley DSA for our October General Meeting! This meeting will feature updates from our working groups and ongoing projects\, as well as a space to connect with comrades and discuss our current and future work as a Chapter. We will also have a skill-building session on “How to Crack Public Speaking”! Towards the end at 3-4 PM\, we will phone bank our members whose DSA membership is expiring about renewing\, Measure A\, and Prop 50. \nWe welcome everyone to our meetings\, whether you’ve been involved for a long time or are curious to learn more. To take part in Chapter decisions as a voting member\, please sign up with National DSA at https://dsausa.org/join. \nThis meeting will be held in person\, with the option to participate virtually via Zoom. \nRegister for the Zoom https://us02web.zoom.us/meeting/register/tIHLftJaS7S-kK3Lf8fLaw \nRSVP here: https://actionnetwork.org/events/2025-10-25-chapter-meeting \n2302 Zanker Rd\nSan Jose\, CA 95131\nSaturday\, October 25\n1–4 PM
URL:https://siliconvalleydsa.org/event/2025-10-25-chapter-meeting/
LOCATION:SEIU Local 521 Union Hall\, 2302 Zanker Rd\, San Jose\, CA\, 95131
CATEGORIES:General Meeting,newbie-friendly,SV DSA
END:VEVENT
END:VCALENDAR