BEGIN:VCALENDAR
VERSION:2.0
PRODID:-//Silicon Valley DSA - ECPv6.15.20//NONSGML v1.0//EN
CALSCALE:GREGORIAN
METHOD:PUBLISH
X-WR-CALNAME:Silicon Valley DSA
X-ORIGINAL-URL:https://siliconvalleydsa.org
X-WR-CALDESC:Events for Silicon Valley DSA
REFRESH-INTERVAL;VALUE=DURATION:PT1H
X-Robots-Tag:noindex
X-PUBLISHED-TTL:PT1H
BEGIN:VTIMEZONE
TZID:America/Los_Angeles
BEGIN:DAYLIGHT
TZOFFSETFROM:-0800
TZOFFSETTO:-0700
TZNAME:PDT
DTSTART:20240310T100000
END:DAYLIGHT
BEGIN:STANDARD
TZOFFSETFROM:-0700
TZOFFSETTO:-0800
TZNAME:PST
DTSTART:20241103T090000
END:STANDARD
BEGIN:DAYLIGHT
TZOFFSETFROM:-0800
TZOFFSETTO:-0700
TZNAME:PDT
DTSTART:20250309T100000
END:DAYLIGHT
BEGIN:STANDARD
TZOFFSETFROM:-0700
TZOFFSETTO:-0800
TZNAME:PST
DTSTART:20251102T090000
END:STANDARD
BEGIN:DAYLIGHT
TZOFFSETFROM:-0800
TZOFFSETTO:-0700
TZNAME:PDT
DTSTART:20260308T100000
END:DAYLIGHT
BEGIN:STANDARD
TZOFFSETFROM:-0700
TZOFFSETTO:-0800
TZNAME:PST
DTSTART:20261101T090000
END:STANDARD
END:VTIMEZONE
BEGIN:VEVENT
DTSTART;TZID=America/Los_Angeles:20250830T130000
DTEND;TZID=America/Los_Angeles:20250830T150000
DTSTAMP:20260421T021041
CREATED:20250720T205453Z
LAST-MODIFIED:20250829T051234Z
UID:10001339-1756558800-1756566000@siliconvalleydsa.org
SUMMARY:August Chapter Meeting
DESCRIPTION:Join Silicon Valley DSA for our August General Meeting! This meeting will feature a report back by our delegates to DSA’s National Convention resolutions\, updates from our working groups and ongoing projects\, as well as a space to connect with comrades and discuss our current and future work as a Chapter. \nWe welcome everyone to our meetings\, whether you’ve been involved for a long time or are curious to learn more. To take part in Chapter decisions as a voting member\, please sign up with National DSA at https://dsausa.org/join. \nThis meeting will be held in person\, with the option to participate virtually via Zoom. \n2302 Zanker Rd\nSan Jose\, CA 95131\nSaturday\, August 30th\n1PM – 3PM \nRegister for the Zoom: https://us02web.zoom.us/meeting/register/swt-4SxtTPudtlzBYKKU9g \nRSVP here: https://actionnetwork.org/events/august-chapter-meeting-7
URL:https://siliconvalleydsa.org/event/2025-08-30-cm/
LOCATION:CA
CATEGORIES:General Meeting
END:VEVENT
END:VCALENDAR