BEGIN:VCALENDAR
VERSION:2.0
PRODID:-//Silicon Valley DSA - ECPv6.15.20//NONSGML v1.0//EN
CALSCALE:GREGORIAN
METHOD:PUBLISH
X-WR-CALNAME:Silicon Valley DSA
X-ORIGINAL-URL:https://siliconvalleydsa.org
X-WR-CALDESC:Events for Silicon Valley DSA
REFRESH-INTERVAL;VALUE=DURATION:PT1H
X-Robots-Tag:noindex
X-PUBLISHED-TTL:PT1H
BEGIN:VTIMEZONE
TZID:America/Los_Angeles
BEGIN:DAYLIGHT
TZOFFSETFROM:-0800
TZOFFSETTO:-0700
TZNAME:PDT
DTSTART:20240310T100000
END:DAYLIGHT
BEGIN:STANDARD
TZOFFSETFROM:-0700
TZOFFSETTO:-0800
TZNAME:PST
DTSTART:20241103T090000
END:STANDARD
BEGIN:DAYLIGHT
TZOFFSETFROM:-0800
TZOFFSETTO:-0700
TZNAME:PDT
DTSTART:20250309T100000
END:DAYLIGHT
BEGIN:STANDARD
TZOFFSETFROM:-0700
TZOFFSETTO:-0800
TZNAME:PST
DTSTART:20251102T090000
END:STANDARD
BEGIN:DAYLIGHT
TZOFFSETFROM:-0800
TZOFFSETTO:-0700
TZNAME:PDT
DTSTART:20260308T100000
END:DAYLIGHT
BEGIN:STANDARD
TZOFFSETFROM:-0700
TZOFFSETTO:-0800
TZNAME:PST
DTSTART:20261101T090000
END:STANDARD
END:VTIMEZONE
BEGIN:VEVENT
DTSTART;TZID=America/Los_Angeles:20250702T180000
DTEND;TZID=America/Los_Angeles:20250702T193000
DTSTAMP:20260421T191029
CREATED:20250628T174216Z
LAST-MODIFIED:20250704T022937Z
UID:10000892-1751479200-1751484600@siliconvalleydsa.org
SUMMARY:Immigrant Rights Support Training
DESCRIPTION:Wondering how to support your fellow neighbors? Join this training to learn how we can protect each other and keep our community safe from ICE. This training is hybrid – there will be both in-person and zoom options. \nIf you’re interested in attending this event\, join our Google Group here to get in contact with the organizers!\nClick “Ask to join group” if you have a Gmail account\, or “Contact owners and managers” if you do not. You can also reach out to #wg-international-solidarity on our Slack.
URL:https://siliconvalleydsa.org/event/2025-07-02-immigrant-support-training/
LOCATION:CA
CATEGORIES:External,SV DSA,WG - International Solidarity
END:VEVENT
END:VCALENDAR