BEGIN:VCALENDAR
VERSION:2.0
PRODID:-//Silicon Valley DSA - ECPv6.15.20//NONSGML v1.0//EN
CALSCALE:GREGORIAN
METHOD:PUBLISH
X-WR-CALNAME:Silicon Valley DSA
X-ORIGINAL-URL:https://siliconvalleydsa.org
X-WR-CALDESC:Events for Silicon Valley DSA
REFRESH-INTERVAL;VALUE=DURATION:PT1H
X-Robots-Tag:noindex
X-PUBLISHED-TTL:PT1H
BEGIN:VTIMEZONE
TZID:America/Los_Angeles
BEGIN:DAYLIGHT
TZOFFSETFROM:-0800
TZOFFSETTO:-0700
TZNAME:PDT
DTSTART:20240310T100000
END:DAYLIGHT
BEGIN:STANDARD
TZOFFSETFROM:-0700
TZOFFSETTO:-0800
TZNAME:PST
DTSTART:20241103T090000
END:STANDARD
BEGIN:DAYLIGHT
TZOFFSETFROM:-0800
TZOFFSETTO:-0700
TZNAME:PDT
DTSTART:20250309T100000
END:DAYLIGHT
BEGIN:STANDARD
TZOFFSETFROM:-0700
TZOFFSETTO:-0800
TZNAME:PST
DTSTART:20251102T090000
END:STANDARD
BEGIN:DAYLIGHT
TZOFFSETFROM:-0800
TZOFFSETTO:-0700
TZNAME:PDT
DTSTART:20260308T100000
END:DAYLIGHT
BEGIN:STANDARD
TZOFFSETFROM:-0700
TZOFFSETTO:-0800
TZNAME:PST
DTSTART:20261101T090000
END:STANDARD
END:VTIMEZONE
BEGIN:VEVENT
DTSTART;TZID=America/Los_Angeles:20250823T130000
DTEND;TZID=America/Los_Angeles:20250823T180000
DTSTAMP:20260421T070501
CREATED:20250716T172511Z
LAST-MODIFIED:20250804T175447Z
UID:10001337-1755954000-1755972000@siliconvalleydsa.org
SUMMARY:San Jose Mutual Aid Bloc Party
DESCRIPTION:AND WE ARE BACK WITH THE 2025 SAN JOSE MUTUAL AID BLOC PARTY!!! \nSaturday August 23\n1pm-6pm\nBackesto Park \nLive Music by *top secret guests*. Free Stuff from our friends at Art Pocket San Jose San Jose Clothing Swap\, South Bay Mutual Aid\, and San Jose Food Not Bombs! \nOur besties from Love Letters 2 San Jose will be joining us!! \nRent Raffle???? Drop a couple dollars and see if you win! \nLet’s hang out and swap our summer finds and share the love for San Jose 💥💃
URL:https://siliconvalleydsa.org/event/2025-08-23-blocparty/
LOCATION:Backesto Park\, 551 N 13th St\, San Jose\, 95112\, United States
CATEGORIES:External,newbie-friendly,SV DSA,WG - Mutual Aid
ORGANIZER;CN="Silicon Valley DSA":MAILTO:info@siliconvalleydsa.org
END:VEVENT
END:VCALENDAR